BEGIN:VCALENDAR
VERSION:2.0
PRODID:-//Sayre Public Library - ECPv6.15.16//NONSGML v1.0//EN
CALSCALE:GREGORIAN
METHOD:PUBLISH
X-WR-CALNAME:Sayre Public Library
X-ORIGINAL-URL:https://sayrepl.org
X-WR-CALDESC:Events for Sayre Public Library
REFRESH-INTERVAL;VALUE=DURATION:PT1H
X-Robots-Tag:noindex
X-PUBLISHED-TTL:PT1H
BEGIN:VTIMEZONE
TZID:America/New_York
BEGIN:DAYLIGHT
TZOFFSETFROM:-0500
TZOFFSETTO:-0400
TZNAME:EDT
DTSTART:20250309T070000
END:DAYLIGHT
BEGIN:STANDARD
TZOFFSETFROM:-0400
TZOFFSETTO:-0500
TZNAME:EST
DTSTART:20251102T060000
END:STANDARD
BEGIN:DAYLIGHT
TZOFFSETFROM:-0500
TZOFFSETTO:-0400
TZNAME:EDT
DTSTART:20260308T070000
END:DAYLIGHT
BEGIN:STANDARD
TZOFFSETFROM:-0400
TZOFFSETTO:-0500
TZNAME:EST
DTSTART:20261101T060000
END:STANDARD
BEGIN:DAYLIGHT
TZOFFSETFROM:-0500
TZOFFSETTO:-0400
TZNAME:EDT
DTSTART:20270314T070000
END:DAYLIGHT
BEGIN:STANDARD
TZOFFSETFROM:-0400
TZOFFSETTO:-0500
TZNAME:EST
DTSTART:20271107T060000
END:STANDARD
END:VTIMEZONE
BEGIN:VEVENT
DTSTART;TZID=America/New_York:20260422T103000
DTEND;TZID=America/New_York:20260422T113000
DTSTAMP:20260422T025639
CREATED:20260320T144001Z
LAST-MODIFIED:20260320T144001Z
UID:10003550-1776853800-1776857400@sayrepl.org
SUMMARY:Children's Story Time: Earth Day
DESCRIPTION:Join us for stories\, songs\, and fun every Wednesday morning at our Children’s Story Time! Our youth services librarian will lead children through a series of stories\, activities\, crafts\, and more in an effort to help build critical early literacy and social skills. No registration is required. \nThis week\, our theme for Story Time is Earth Day!
URL:https://sayrepl.org/event/childrens-story-time-9/
LOCATION:Sayre Public Library\, 122 S Elmer Ave\, Sayre\, PA\, 18840\, United States
ATTACH;FMTTYPE=image/png:https://sayrepl.org/wp-content/uploads/2024/09/Childrens-Story-Time-Flyer.png
END:VEVENT
BEGIN:VEVENT
DTSTART;TZID=America/New_York:20260422T140000
DTEND;TZID=America/New_York:20260422T150000
DTSTAMP:20260422T025639
CREATED:20260317T151331Z
LAST-MODIFIED:20260317T151331Z
UID:10005122-1776866400-1776870000@sayrepl.org
SUMMARY:LSC Virtual Author Talk: Miranda Cowley Heller
DESCRIPTION:Registration: \nLSC | Register | Sayre Public Library (libraryc.org) \nDescription: \nAward-winning and bestselling author Miranda Cowley Heller takes us on an intimate journey through the life stages of a woman in her new poetry collection\, What the Deep Water Knows. Delicate\, yet exceedingly raw\, these poems will transport you as vividly as any work of fiction. \n  \nIf I could fly backward\, I would. \nTo the safety of branches\, to the time \nwhen my heart still raced for you\, \ntwelve hundred beats a minute. \n  \nIn poetry that is at once bold and lyrical\, affecting and devastatingly frank\, Miranda Cowley Heller takes us through childhood\, marriage\, motherhood\, and beyond. Suffused with the natural world and the landscape of Cape Cod\, where many of the poems are set\, What the Deep Water Knows contemplates love in all the seasons. \nRegister now to celebrate National Poetry Month with this graceful new poetry collection. \nAbout the Author: Miranda Cowley Heller was raised in New York City and Cape Cod. Her debut novel The Paper Palace was a number one New York Times bestseller in the US\, a Sunday Times bestseller in the UK\, and was longlisted for the Women’s Prize. She has worked as a senior vice president and head of drama series at HBO\, developing and overseeing such shows as The Sopranos\, Six Feet Under\, The Wire\, Deadwood\, and Big Love\, among others. This is her first poetry collection.
URL:https://sayrepl.org/event/lsc-virtual-author-talk-miranda-cowley-heller/
LOCATION:Sayre Public Library\, 122 S Elmer Ave\, Sayre\, PA\, 18840\, United States
ATTACH;FMTTYPE=image/jpeg:https://sayrepl.org/wp-content/uploads/2026/03/maxresdefault-28.jpg
END:VEVENT
END:VCALENDAR