BEGIN:VCALENDAR
VERSION:2.0
PRODID:-//Sayre Public Library - ECPv6.15.16//NONSGML v1.0//EN
CALSCALE:GREGORIAN
METHOD:PUBLISH
X-WR-CALNAME:Sayre Public Library
X-ORIGINAL-URL:https://sayrepl.org
X-WR-CALDESC:Events for Sayre Public Library
REFRESH-INTERVAL;VALUE=DURATION:PT1H
X-Robots-Tag:noindex
X-PUBLISHED-TTL:PT1H
BEGIN:VTIMEZONE
TZID:America/New_York
BEGIN:DAYLIGHT
TZOFFSETFROM:-0500
TZOFFSETTO:-0400
TZNAME:EDT
DTSTART:20270314T070000
END:DAYLIGHT
BEGIN:STANDARD
TZOFFSETFROM:-0400
TZOFFSETTO:-0500
TZNAME:EST
DTSTART:20271107T060000
END:STANDARD
BEGIN:DAYLIGHT
TZOFFSETFROM:-0500
TZOFFSETTO:-0400
TZNAME:EDT
DTSTART:20280312T070000
END:DAYLIGHT
BEGIN:STANDARD
TZOFFSETFROM:-0400
TZOFFSETTO:-0500
TZNAME:EST
DTSTART:20281105T060000
END:STANDARD
BEGIN:DAYLIGHT
TZOFFSETFROM:-0500
TZOFFSETTO:-0400
TZNAME:EDT
DTSTART:20290311T070000
END:DAYLIGHT
BEGIN:STANDARD
TZOFFSETFROM:-0400
TZOFFSETTO:-0500
TZNAME:EST
DTSTART:20291104T060000
END:STANDARD
END:VTIMEZONE
BEGIN:VEVENT
DTSTART;TZID=America/New_York:20280128T100000
DTEND;TZID=America/New_York:20280128T230000
DTSTAMP:20260425T000440
CREATED:20240227T164158Z
LAST-MODIFIED:20251229T193456Z
UID:10001765-1832666400-1832713200@sayrepl.org
SUMMARY:Tech Help
DESCRIPTION:Let our staff assist you with tech issues and computer help. Bring in a device\, a tech problem\, or a question and we will assist you! Tech Help runs on a first come\, first served basis.
URL:https://sayrepl.org/event/friday-tech-help-2-2/2028-01-28/
LOCATION:Sayre Public Library\, 122 S Elmer Ave\, Sayre\, PA\, 18840\, United States
CATEGORIES:Events for All Ages
ATTACH;FMTTYPE=image/png:https://sayrepl.org/wp-content/uploads/2023/11/Laptop-Computer-Instagram-Post-5.png
END:VEVENT
BEGIN:VEVENT
DTSTART;TZID=America/New_York:20280204T100000
DTEND;TZID=America/New_York:20280204T230000
DTSTAMP:20260425T000440
CREATED:20240227T164158Z
LAST-MODIFIED:20251229T193456Z
UID:10001766-1833271200-1833318000@sayrepl.org
SUMMARY:Tech Help
DESCRIPTION:Let our staff assist you with tech issues and computer help. Bring in a device\, a tech problem\, or a question and we will assist you! Tech Help runs on a first come\, first served basis.
URL:https://sayrepl.org/event/friday-tech-help-2-2/2028-02-04/
LOCATION:Sayre Public Library\, 122 S Elmer Ave\, Sayre\, PA\, 18840\, United States
CATEGORIES:Events for All Ages
ATTACH;FMTTYPE=image/png:https://sayrepl.org/wp-content/uploads/2023/11/Laptop-Computer-Instagram-Post-5.png
END:VEVENT
BEGIN:VEVENT
DTSTART;TZID=America/New_York:20280211T100000
DTEND;TZID=America/New_York:20280211T230000
DTSTAMP:20260425T000440
CREATED:20240227T164158Z
LAST-MODIFIED:20251229T193456Z
UID:10001767-1833876000-1833922800@sayrepl.org
SUMMARY:Tech Help
DESCRIPTION:Let our staff assist you with tech issues and computer help. Bring in a device\, a tech problem\, or a question and we will assist you! Tech Help runs on a first come\, first served basis.
URL:https://sayrepl.org/event/friday-tech-help-2-2/2028-02-11/
LOCATION:Sayre Public Library\, 122 S Elmer Ave\, Sayre\, PA\, 18840\, United States
CATEGORIES:Events for All Ages
ATTACH;FMTTYPE=image/png:https://sayrepl.org/wp-content/uploads/2023/11/Laptop-Computer-Instagram-Post-5.png
END:VEVENT
BEGIN:VEVENT
DTSTART;TZID=America/New_York:20280218T100000
DTEND;TZID=America/New_York:20280218T230000
DTSTAMP:20260425T000440
CREATED:20240227T164158Z
LAST-MODIFIED:20251229T193456Z
UID:10001768-1834480800-1834527600@sayrepl.org
SUMMARY:Tech Help
DESCRIPTION:Let our staff assist you with tech issues and computer help. Bring in a device\, a tech problem\, or a question and we will assist you! Tech Help runs on a first come\, first served basis.
URL:https://sayrepl.org/event/friday-tech-help-2-2/2028-02-18/
LOCATION:Sayre Public Library\, 122 S Elmer Ave\, Sayre\, PA\, 18840\, United States
CATEGORIES:Events for All Ages
ATTACH;FMTTYPE=image/png:https://sayrepl.org/wp-content/uploads/2023/11/Laptop-Computer-Instagram-Post-5.png
END:VEVENT
BEGIN:VEVENT
DTSTART;TZID=America/New_York:20280225T100000
DTEND;TZID=America/New_York:20280225T230000
DTSTAMP:20260425T000440
CREATED:20240227T164158Z
LAST-MODIFIED:20251229T193456Z
UID:10001769-1835085600-1835132400@sayrepl.org
SUMMARY:Tech Help
DESCRIPTION:Let our staff assist you with tech issues and computer help. Bring in a device\, a tech problem\, or a question and we will assist you! Tech Help runs on a first come\, first served basis.
URL:https://sayrepl.org/event/friday-tech-help-2-2/2028-02-25/
LOCATION:Sayre Public Library\, 122 S Elmer Ave\, Sayre\, PA\, 18840\, United States
CATEGORIES:Events for All Ages
ATTACH;FMTTYPE=image/png:https://sayrepl.org/wp-content/uploads/2023/11/Laptop-Computer-Instagram-Post-5.png
END:VEVENT
BEGIN:VEVENT
DTSTART;TZID=America/New_York:20280303T100000
DTEND;TZID=America/New_York:20280303T230000
DTSTAMP:20260425T000440
CREATED:20240227T164158Z
LAST-MODIFIED:20251229T193456Z
UID:10001770-1835690400-1835737200@sayrepl.org
SUMMARY:Tech Help
DESCRIPTION:Let our staff assist you with tech issues and computer help. Bring in a device\, a tech problem\, or a question and we will assist you! Tech Help runs on a first come\, first served basis.
URL:https://sayrepl.org/event/friday-tech-help-2-2/2028-03-03/
LOCATION:Sayre Public Library\, 122 S Elmer Ave\, Sayre\, PA\, 18840\, United States
CATEGORIES:Events for All Ages
ATTACH;FMTTYPE=image/png:https://sayrepl.org/wp-content/uploads/2023/11/Laptop-Computer-Instagram-Post-5.png
END:VEVENT
BEGIN:VEVENT
DTSTART;TZID=America/New_York:20280310T100000
DTEND;TZID=America/New_York:20280310T230000
DTSTAMP:20260425T000440
CREATED:20240227T164158Z
LAST-MODIFIED:20251229T193456Z
UID:10001771-1836295200-1836342000@sayrepl.org
SUMMARY:Tech Help
DESCRIPTION:Let our staff assist you with tech issues and computer help. Bring in a device\, a tech problem\, or a question and we will assist you! Tech Help runs on a first come\, first served basis.
URL:https://sayrepl.org/event/friday-tech-help-2-2/2028-03-10/
LOCATION:Sayre Public Library\, 122 S Elmer Ave\, Sayre\, PA\, 18840\, United States
CATEGORIES:Events for All Ages
ATTACH;FMTTYPE=image/png:https://sayrepl.org/wp-content/uploads/2023/11/Laptop-Computer-Instagram-Post-5.png
END:VEVENT
BEGIN:VEVENT
DTSTART;TZID=America/New_York:20280317T100000
DTEND;TZID=America/New_York:20280317T230000
DTSTAMP:20260425T000440
CREATED:20240227T164158Z
LAST-MODIFIED:20251229T193456Z
UID:10001772-1836900000-1836946800@sayrepl.org
SUMMARY:Tech Help
DESCRIPTION:Let our staff assist you with tech issues and computer help. Bring in a device\, a tech problem\, or a question and we will assist you! Tech Help runs on a first come\, first served basis.
URL:https://sayrepl.org/event/friday-tech-help-2-2/2028-03-17/
LOCATION:Sayre Public Library\, 122 S Elmer Ave\, Sayre\, PA\, 18840\, United States
CATEGORIES:Events for All Ages
ATTACH;FMTTYPE=image/png:https://sayrepl.org/wp-content/uploads/2023/11/Laptop-Computer-Instagram-Post-5.png
END:VEVENT
BEGIN:VEVENT
DTSTART;TZID=America/New_York:20280324T100000
DTEND;TZID=America/New_York:20280324T230000
DTSTAMP:20260425T000440
CREATED:20240227T164158Z
LAST-MODIFIED:20251229T193456Z
UID:10001773-1837504800-1837551600@sayrepl.org
SUMMARY:Tech Help
DESCRIPTION:Let our staff assist you with tech issues and computer help. Bring in a device\, a tech problem\, or a question and we will assist you! Tech Help runs on a first come\, first served basis.
URL:https://sayrepl.org/event/friday-tech-help-2-2/2028-03-24/
LOCATION:Sayre Public Library\, 122 S Elmer Ave\, Sayre\, PA\, 18840\, United States
CATEGORIES:Events for All Ages
ATTACH;FMTTYPE=image/png:https://sayrepl.org/wp-content/uploads/2023/11/Laptop-Computer-Instagram-Post-5.png
END:VEVENT
BEGIN:VEVENT
DTSTART;TZID=America/New_York:20280331T100000
DTEND;TZID=America/New_York:20280331T230000
DTSTAMP:20260425T000440
CREATED:20240227T164158Z
LAST-MODIFIED:20251229T193456Z
UID:10001774-1838109600-1838156400@sayrepl.org
SUMMARY:Tech Help
DESCRIPTION:Let our staff assist you with tech issues and computer help. Bring in a device\, a tech problem\, or a question and we will assist you! Tech Help runs on a first come\, first served basis.
URL:https://sayrepl.org/event/friday-tech-help-2-2/2028-03-31/
LOCATION:Sayre Public Library\, 122 S Elmer Ave\, Sayre\, PA\, 18840\, United States
CATEGORIES:Events for All Ages
ATTACH;FMTTYPE=image/png:https://sayrepl.org/wp-content/uploads/2023/11/Laptop-Computer-Instagram-Post-5.png
END:VEVENT
BEGIN:VEVENT
DTSTART;TZID=America/New_York:20280407T100000
DTEND;TZID=America/New_York:20280407T230000
DTSTAMP:20260425T000440
CREATED:20240227T164158Z
LAST-MODIFIED:20251229T193456Z
UID:10001775-1838714400-1838761200@sayrepl.org
SUMMARY:Tech Help
DESCRIPTION:Let our staff assist you with tech issues and computer help. Bring in a device\, a tech problem\, or a question and we will assist you! Tech Help runs on a first come\, first served basis.
URL:https://sayrepl.org/event/friday-tech-help-2-2/2028-04-07/
LOCATION:Sayre Public Library\, 122 S Elmer Ave\, Sayre\, PA\, 18840\, United States
CATEGORIES:Events for All Ages
ATTACH;FMTTYPE=image/png:https://sayrepl.org/wp-content/uploads/2023/11/Laptop-Computer-Instagram-Post-5.png
END:VEVENT
BEGIN:VEVENT
DTSTART;TZID=America/New_York:20280414T100000
DTEND;TZID=America/New_York:20280414T230000
DTSTAMP:20260425T000440
CREATED:20240227T164158Z
LAST-MODIFIED:20251229T193456Z
UID:10001776-1839319200-1839366000@sayrepl.org
SUMMARY:Tech Help
DESCRIPTION:Let our staff assist you with tech issues and computer help. Bring in a device\, a tech problem\, or a question and we will assist you! Tech Help runs on a first come\, first served basis.
URL:https://sayrepl.org/event/friday-tech-help-2-2/2028-04-14/
LOCATION:Sayre Public Library\, 122 S Elmer Ave\, Sayre\, PA\, 18840\, United States
CATEGORIES:Events for All Ages
ATTACH;FMTTYPE=image/png:https://sayrepl.org/wp-content/uploads/2023/11/Laptop-Computer-Instagram-Post-5.png
END:VEVENT
BEGIN:VEVENT
DTSTART;TZID=America/New_York:20280421T100000
DTEND;TZID=America/New_York:20280421T230000
DTSTAMP:20260425T000440
CREATED:20240227T164158Z
LAST-MODIFIED:20251229T193456Z
UID:10001777-1839924000-1839970800@sayrepl.org
SUMMARY:Tech Help
DESCRIPTION:Let our staff assist you with tech issues and computer help. Bring in a device\, a tech problem\, or a question and we will assist you! Tech Help runs on a first come\, first served basis.
URL:https://sayrepl.org/event/friday-tech-help-2-2/2028-04-21/
LOCATION:Sayre Public Library\, 122 S Elmer Ave\, Sayre\, PA\, 18840\, United States
CATEGORIES:Events for All Ages
ATTACH;FMTTYPE=image/png:https://sayrepl.org/wp-content/uploads/2023/11/Laptop-Computer-Instagram-Post-5.png
END:VEVENT
BEGIN:VEVENT
DTSTART;TZID=America/New_York:20280428T100000
DTEND;TZID=America/New_York:20280428T230000
DTSTAMP:20260425T000440
CREATED:20240227T164158Z
LAST-MODIFIED:20251229T193456Z
UID:10001778-1840528800-1840575600@sayrepl.org
SUMMARY:Tech Help
DESCRIPTION:Let our staff assist you with tech issues and computer help. Bring in a device\, a tech problem\, or a question and we will assist you! Tech Help runs on a first come\, first served basis.
URL:https://sayrepl.org/event/friday-tech-help-2-2/2028-04-28/
LOCATION:Sayre Public Library\, 122 S Elmer Ave\, Sayre\, PA\, 18840\, United States
CATEGORIES:Events for All Ages
ATTACH;FMTTYPE=image/png:https://sayrepl.org/wp-content/uploads/2023/11/Laptop-Computer-Instagram-Post-5.png
END:VEVENT
BEGIN:VEVENT
DTSTART;TZID=America/New_York:20280505T100000
DTEND;TZID=America/New_York:20280505T230000
DTSTAMP:20260425T000440
CREATED:20240227T164158Z
LAST-MODIFIED:20251229T193456Z
UID:10001779-1841133600-1841180400@sayrepl.org
SUMMARY:Tech Help
DESCRIPTION:Let our staff assist you with tech issues and computer help. Bring in a device\, a tech problem\, or a question and we will assist you! Tech Help runs on a first come\, first served basis.
URL:https://sayrepl.org/event/friday-tech-help-2-2/2028-05-05/
LOCATION:Sayre Public Library\, 122 S Elmer Ave\, Sayre\, PA\, 18840\, United States
CATEGORIES:Events for All Ages
ATTACH;FMTTYPE=image/png:https://sayrepl.org/wp-content/uploads/2023/11/Laptop-Computer-Instagram-Post-5.png
END:VEVENT
BEGIN:VEVENT
DTSTART;TZID=America/New_York:20280512T100000
DTEND;TZID=America/New_York:20280512T230000
DTSTAMP:20260425T000440
CREATED:20240227T164158Z
LAST-MODIFIED:20251229T193456Z
UID:10001780-1841738400-1841785200@sayrepl.org
SUMMARY:Tech Help
DESCRIPTION:Let our staff assist you with tech issues and computer help. Bring in a device\, a tech problem\, or a question and we will assist you! Tech Help runs on a first come\, first served basis.
URL:https://sayrepl.org/event/friday-tech-help-2-2/2028-05-12/
LOCATION:Sayre Public Library\, 122 S Elmer Ave\, Sayre\, PA\, 18840\, United States
CATEGORIES:Events for All Ages
ATTACH;FMTTYPE=image/png:https://sayrepl.org/wp-content/uploads/2023/11/Laptop-Computer-Instagram-Post-5.png
END:VEVENT
BEGIN:VEVENT
DTSTART;TZID=America/New_York:20280519T100000
DTEND;TZID=America/New_York:20280519T230000
DTSTAMP:20260425T000440
CREATED:20240227T164158Z
LAST-MODIFIED:20251229T193456Z
UID:10001781-1842343200-1842390000@sayrepl.org
SUMMARY:Tech Help
DESCRIPTION:Let our staff assist you with tech issues and computer help. Bring in a device\, a tech problem\, or a question and we will assist you! Tech Help runs on a first come\, first served basis.
URL:https://sayrepl.org/event/friday-tech-help-2-2/2028-05-19/
LOCATION:Sayre Public Library\, 122 S Elmer Ave\, Sayre\, PA\, 18840\, United States
CATEGORIES:Events for All Ages
ATTACH;FMTTYPE=image/png:https://sayrepl.org/wp-content/uploads/2023/11/Laptop-Computer-Instagram-Post-5.png
END:VEVENT
BEGIN:VEVENT
DTSTART;TZID=America/New_York:20280526T100000
DTEND;TZID=America/New_York:20280526T230000
DTSTAMP:20260425T000440
CREATED:20240227T164158Z
LAST-MODIFIED:20251229T193456Z
UID:10001782-1842948000-1842994800@sayrepl.org
SUMMARY:Tech Help
DESCRIPTION:Let our staff assist you with tech issues and computer help. Bring in a device\, a tech problem\, or a question and we will assist you! Tech Help runs on a first come\, first served basis.
URL:https://sayrepl.org/event/friday-tech-help-2-2/2028-05-26/
LOCATION:Sayre Public Library\, 122 S Elmer Ave\, Sayre\, PA\, 18840\, United States
CATEGORIES:Events for All Ages
ATTACH;FMTTYPE=image/png:https://sayrepl.org/wp-content/uploads/2023/11/Laptop-Computer-Instagram-Post-5.png
END:VEVENT
BEGIN:VEVENT
DTSTART;TZID=America/New_York:20280602T100000
DTEND;TZID=America/New_York:20280602T230000
DTSTAMP:20260425T000440
CREATED:20240227T164158Z
LAST-MODIFIED:20251229T193456Z
UID:10001783-1843552800-1843599600@sayrepl.org
SUMMARY:Tech Help
DESCRIPTION:Let our staff assist you with tech issues and computer help. Bring in a device\, a tech problem\, or a question and we will assist you! Tech Help runs on a first come\, first served basis.
URL:https://sayrepl.org/event/friday-tech-help-2-2/2028-06-02/
LOCATION:Sayre Public Library\, 122 S Elmer Ave\, Sayre\, PA\, 18840\, United States
CATEGORIES:Events for All Ages
ATTACH;FMTTYPE=image/png:https://sayrepl.org/wp-content/uploads/2023/11/Laptop-Computer-Instagram-Post-5.png
END:VEVENT
BEGIN:VEVENT
DTSTART;TZID=America/New_York:20280609T100000
DTEND;TZID=America/New_York:20280609T230000
DTSTAMP:20260425T000440
CREATED:20240227T164158Z
LAST-MODIFIED:20251229T193456Z
UID:10001784-1844157600-1844204400@sayrepl.org
SUMMARY:Tech Help
DESCRIPTION:Let our staff assist you with tech issues and computer help. Bring in a device\, a tech problem\, or a question and we will assist you! Tech Help runs on a first come\, first served basis.
URL:https://sayrepl.org/event/friday-tech-help-2-2/2028-06-09/
LOCATION:Sayre Public Library\, 122 S Elmer Ave\, Sayre\, PA\, 18840\, United States
CATEGORIES:Events for All Ages
ATTACH;FMTTYPE=image/png:https://sayrepl.org/wp-content/uploads/2023/11/Laptop-Computer-Instagram-Post-5.png
END:VEVENT
BEGIN:VEVENT
DTSTART;TZID=America/New_York:20280616T100000
DTEND;TZID=America/New_York:20280616T230000
DTSTAMP:20260425T000440
CREATED:20240227T164158Z
LAST-MODIFIED:20251229T193456Z
UID:10001785-1844762400-1844809200@sayrepl.org
SUMMARY:Tech Help
DESCRIPTION:Let our staff assist you with tech issues and computer help. Bring in a device\, a tech problem\, or a question and we will assist you! Tech Help runs on a first come\, first served basis.
URL:https://sayrepl.org/event/friday-tech-help-2-2/2028-06-16/
LOCATION:Sayre Public Library\, 122 S Elmer Ave\, Sayre\, PA\, 18840\, United States
CATEGORIES:Events for All Ages
ATTACH;FMTTYPE=image/png:https://sayrepl.org/wp-content/uploads/2023/11/Laptop-Computer-Instagram-Post-5.png
END:VEVENT
BEGIN:VEVENT
DTSTART;TZID=America/New_York:20280623T100000
DTEND;TZID=America/New_York:20280623T230000
DTSTAMP:20260425T000440
CREATED:20240227T164158Z
LAST-MODIFIED:20251229T193456Z
UID:10001786-1845367200-1845414000@sayrepl.org
SUMMARY:Tech Help
DESCRIPTION:Let our staff assist you with tech issues and computer help. Bring in a device\, a tech problem\, or a question and we will assist you! Tech Help runs on a first come\, first served basis.
URL:https://sayrepl.org/event/friday-tech-help-2-2/2028-06-23/
LOCATION:Sayre Public Library\, 122 S Elmer Ave\, Sayre\, PA\, 18840\, United States
CATEGORIES:Events for All Ages
ATTACH;FMTTYPE=image/png:https://sayrepl.org/wp-content/uploads/2023/11/Laptop-Computer-Instagram-Post-5.png
END:VEVENT
BEGIN:VEVENT
DTSTART;TZID=America/New_York:20280630T100000
DTEND;TZID=America/New_York:20280630T230000
DTSTAMP:20260425T000440
CREATED:20240227T164158Z
LAST-MODIFIED:20251229T193456Z
UID:10001787-1845972000-1846018800@sayrepl.org
SUMMARY:Tech Help
DESCRIPTION:Let our staff assist you with tech issues and computer help. Bring in a device\, a tech problem\, or a question and we will assist you! Tech Help runs on a first come\, first served basis.
URL:https://sayrepl.org/event/friday-tech-help-2-2/2028-06-30/
LOCATION:Sayre Public Library\, 122 S Elmer Ave\, Sayre\, PA\, 18840\, United States
CATEGORIES:Events for All Ages
ATTACH;FMTTYPE=image/png:https://sayrepl.org/wp-content/uploads/2023/11/Laptop-Computer-Instagram-Post-5.png
END:VEVENT
BEGIN:VEVENT
DTSTART;TZID=America/New_York:20280707T100000
DTEND;TZID=America/New_York:20280707T230000
DTSTAMP:20260425T000440
CREATED:20240227T164158Z
LAST-MODIFIED:20251229T193456Z
UID:10001788-1846576800-1846623600@sayrepl.org
SUMMARY:Tech Help
DESCRIPTION:Let our staff assist you with tech issues and computer help. Bring in a device\, a tech problem\, or a question and we will assist you! Tech Help runs on a first come\, first served basis.
URL:https://sayrepl.org/event/friday-tech-help-2-2/2028-07-07/
LOCATION:Sayre Public Library\, 122 S Elmer Ave\, Sayre\, PA\, 18840\, United States
CATEGORIES:Events for All Ages
ATTACH;FMTTYPE=image/png:https://sayrepl.org/wp-content/uploads/2023/11/Laptop-Computer-Instagram-Post-5.png
END:VEVENT
BEGIN:VEVENT
DTSTART;TZID=America/New_York:20280714T100000
DTEND;TZID=America/New_York:20280714T230000
DTSTAMP:20260425T000440
CREATED:20240227T164158Z
LAST-MODIFIED:20251229T193456Z
UID:10001789-1847181600-1847228400@sayrepl.org
SUMMARY:Tech Help
DESCRIPTION:Let our staff assist you with tech issues and computer help. Bring in a device\, a tech problem\, or a question and we will assist you! Tech Help runs on a first come\, first served basis.
URL:https://sayrepl.org/event/friday-tech-help-2-2/2028-07-14/
LOCATION:Sayre Public Library\, 122 S Elmer Ave\, Sayre\, PA\, 18840\, United States
CATEGORIES:Events for All Ages
ATTACH;FMTTYPE=image/png:https://sayrepl.org/wp-content/uploads/2023/11/Laptop-Computer-Instagram-Post-5.png
END:VEVENT
BEGIN:VEVENT
DTSTART;TZID=America/New_York:20280721T100000
DTEND;TZID=America/New_York:20280721T230000
DTSTAMP:20260425T000440
CREATED:20240227T164158Z
LAST-MODIFIED:20251229T193456Z
UID:10001790-1847786400-1847833200@sayrepl.org
SUMMARY:Tech Help
DESCRIPTION:Let our staff assist you with tech issues and computer help. Bring in a device\, a tech problem\, or a question and we will assist you! Tech Help runs on a first come\, first served basis.
URL:https://sayrepl.org/event/friday-tech-help-2-2/2028-07-21/
LOCATION:Sayre Public Library\, 122 S Elmer Ave\, Sayre\, PA\, 18840\, United States
CATEGORIES:Events for All Ages
ATTACH;FMTTYPE=image/png:https://sayrepl.org/wp-content/uploads/2023/11/Laptop-Computer-Instagram-Post-5.png
END:VEVENT
BEGIN:VEVENT
DTSTART;TZID=America/New_York:20280728T100000
DTEND;TZID=America/New_York:20280728T230000
DTSTAMP:20260425T000440
CREATED:20240227T164158Z
LAST-MODIFIED:20251229T193456Z
UID:10001791-1848391200-1848438000@sayrepl.org
SUMMARY:Tech Help
DESCRIPTION:Let our staff assist you with tech issues and computer help. Bring in a device\, a tech problem\, or a question and we will assist you! Tech Help runs on a first come\, first served basis.
URL:https://sayrepl.org/event/friday-tech-help-2-2/2028-07-28/
LOCATION:Sayre Public Library\, 122 S Elmer Ave\, Sayre\, PA\, 18840\, United States
CATEGORIES:Events for All Ages
ATTACH;FMTTYPE=image/png:https://sayrepl.org/wp-content/uploads/2023/11/Laptop-Computer-Instagram-Post-5.png
END:VEVENT
BEGIN:VEVENT
DTSTART;TZID=America/New_York:20280804T100000
DTEND;TZID=America/New_York:20280804T230000
DTSTAMP:20260425T000440
CREATED:20240227T164158Z
LAST-MODIFIED:20251229T193456Z
UID:10001792-1848996000-1849042800@sayrepl.org
SUMMARY:Tech Help
DESCRIPTION:Let our staff assist you with tech issues and computer help. Bring in a device\, a tech problem\, or a question and we will assist you! Tech Help runs on a first come\, first served basis.
URL:https://sayrepl.org/event/friday-tech-help-2-2/2028-08-04/
LOCATION:Sayre Public Library\, 122 S Elmer Ave\, Sayre\, PA\, 18840\, United States
CATEGORIES:Events for All Ages
ATTACH;FMTTYPE=image/png:https://sayrepl.org/wp-content/uploads/2023/11/Laptop-Computer-Instagram-Post-5.png
END:VEVENT
BEGIN:VEVENT
DTSTART;TZID=America/New_York:20280811T100000
DTEND;TZID=America/New_York:20280811T230000
DTSTAMP:20260425T000440
CREATED:20240227T164158Z
LAST-MODIFIED:20251229T193456Z
UID:10001793-1849600800-1849647600@sayrepl.org
SUMMARY:Tech Help
DESCRIPTION:Let our staff assist you with tech issues and computer help. Bring in a device\, a tech problem\, or a question and we will assist you! Tech Help runs on a first come\, first served basis.
URL:https://sayrepl.org/event/friday-tech-help-2-2/2028-08-11/
LOCATION:Sayre Public Library\, 122 S Elmer Ave\, Sayre\, PA\, 18840\, United States
CATEGORIES:Events for All Ages
ATTACH;FMTTYPE=image/png:https://sayrepl.org/wp-content/uploads/2023/11/Laptop-Computer-Instagram-Post-5.png
END:VEVENT
BEGIN:VEVENT
DTSTART;TZID=America/New_York:20280818T100000
DTEND;TZID=America/New_York:20280818T230000
DTSTAMP:20260425T000440
CREATED:20240227T164158Z
LAST-MODIFIED:20251229T193456Z
UID:10001794-1850205600-1850252400@sayrepl.org
SUMMARY:Tech Help
DESCRIPTION:Let our staff assist you with tech issues and computer help. Bring in a device\, a tech problem\, or a question and we will assist you! Tech Help runs on a first come\, first served basis.
URL:https://sayrepl.org/event/friday-tech-help-2-2/2028-08-18/
LOCATION:Sayre Public Library\, 122 S Elmer Ave\, Sayre\, PA\, 18840\, United States
CATEGORIES:Events for All Ages
ATTACH;FMTTYPE=image/png:https://sayrepl.org/wp-content/uploads/2023/11/Laptop-Computer-Instagram-Post-5.png
END:VEVENT
END:VCALENDAR