BEGIN:VCALENDAR
VERSION:2.0
PRODID:-//Sayre Public Library - ECPv6.15.16//NONSGML v1.0//EN
CALSCALE:GREGORIAN
METHOD:PUBLISH
X-WR-CALNAME:Sayre Public Library
X-ORIGINAL-URL:https://sayrepl.org
X-WR-CALDESC:Events for Sayre Public Library
REFRESH-INTERVAL;VALUE=DURATION:PT1H
X-Robots-Tag:noindex
X-PUBLISHED-TTL:PT1H
BEGIN:VTIMEZONE
TZID:America/New_York
BEGIN:DAYLIGHT
TZOFFSETFROM:-0500
TZOFFSETTO:-0400
TZNAME:EDT
DTSTART:20270314T070000
END:DAYLIGHT
BEGIN:STANDARD
TZOFFSETFROM:-0400
TZOFFSETTO:-0500
TZNAME:EST
DTSTART:20271107T060000
END:STANDARD
BEGIN:DAYLIGHT
TZOFFSETFROM:-0500
TZOFFSETTO:-0400
TZNAME:EDT
DTSTART:20280312T070000
END:DAYLIGHT
BEGIN:STANDARD
TZOFFSETFROM:-0400
TZOFFSETTO:-0500
TZNAME:EST
DTSTART:20281105T060000
END:STANDARD
BEGIN:DAYLIGHT
TZOFFSETFROM:-0500
TZOFFSETTO:-0400
TZNAME:EDT
DTSTART:20290311T070000
END:DAYLIGHT
BEGIN:STANDARD
TZOFFSETFROM:-0400
TZOFFSETTO:-0500
TZNAME:EST
DTSTART:20291104T060000
END:STANDARD
BEGIN:DAYLIGHT
TZOFFSETFROM:-0500
TZOFFSETTO:-0400
TZNAME:EDT
DTSTART:20300310T070000
END:DAYLIGHT
BEGIN:STANDARD
TZOFFSETFROM:-0400
TZOFFSETTO:-0500
TZNAME:EST
DTSTART:20301103T060000
END:STANDARD
END:VTIMEZONE
BEGIN:VEVENT
DTSTART;TZID=America/New_York:20281103T100000
DTEND;TZID=America/New_York:20281103T230000
DTSTAMP:20260425T062942
CREATED:20240227T164158Z
LAST-MODIFIED:20251229T193456Z
UID:10001805-1856858400-1856905200@sayrepl.org
SUMMARY:Tech Help
DESCRIPTION:Let our staff assist you with tech issues and computer help. Bring in a device\, a tech problem\, or a question and we will assist you! Tech Help runs on a first come\, first served basis.
URL:https://sayrepl.org/event/friday-tech-help-2-2/2028-11-03/
LOCATION:Sayre Public Library\, 122 S Elmer Ave\, Sayre\, PA\, 18840\, United States
CATEGORIES:Events for All Ages
ATTACH;FMTTYPE=image/png:https://sayrepl.org/wp-content/uploads/2023/11/Laptop-Computer-Instagram-Post-5.png
END:VEVENT
BEGIN:VEVENT
DTSTART;TZID=America/New_York:20281110T100000
DTEND;TZID=America/New_York:20281110T230000
DTSTAMP:20260425T062942
CREATED:20240227T164158Z
LAST-MODIFIED:20251229T193456Z
UID:10001806-1857463200-1857510000@sayrepl.org
SUMMARY:Tech Help
DESCRIPTION:Let our staff assist you with tech issues and computer help. Bring in a device\, a tech problem\, or a question and we will assist you! Tech Help runs on a first come\, first served basis.
URL:https://sayrepl.org/event/friday-tech-help-2-2/2028-11-10/
LOCATION:Sayre Public Library\, 122 S Elmer Ave\, Sayre\, PA\, 18840\, United States
CATEGORIES:Events for All Ages
ATTACH;FMTTYPE=image/png:https://sayrepl.org/wp-content/uploads/2023/11/Laptop-Computer-Instagram-Post-5.png
END:VEVENT
BEGIN:VEVENT
DTSTART;TZID=America/New_York:20281117T100000
DTEND;TZID=America/New_York:20281117T230000
DTSTAMP:20260425T062942
CREATED:20240227T164158Z
LAST-MODIFIED:20251229T193456Z
UID:10001807-1858068000-1858114800@sayrepl.org
SUMMARY:Tech Help
DESCRIPTION:Let our staff assist you with tech issues and computer help. Bring in a device\, a tech problem\, or a question and we will assist you! Tech Help runs on a first come\, first served basis.
URL:https://sayrepl.org/event/friday-tech-help-2-2/2028-11-17/
LOCATION:Sayre Public Library\, 122 S Elmer Ave\, Sayre\, PA\, 18840\, United States
CATEGORIES:Events for All Ages
ATTACH;FMTTYPE=image/png:https://sayrepl.org/wp-content/uploads/2023/11/Laptop-Computer-Instagram-Post-5.png
END:VEVENT
BEGIN:VEVENT
DTSTART;TZID=America/New_York:20281124T100000
DTEND;TZID=America/New_York:20281124T230000
DTSTAMP:20260425T062942
CREATED:20240227T164158Z
LAST-MODIFIED:20251229T193456Z
UID:10001808-1858672800-1858719600@sayrepl.org
SUMMARY:Tech Help
DESCRIPTION:Let our staff assist you with tech issues and computer help. Bring in a device\, a tech problem\, or a question and we will assist you! Tech Help runs on a first come\, first served basis.
URL:https://sayrepl.org/event/friday-tech-help-2-2/2028-11-24/
LOCATION:Sayre Public Library\, 122 S Elmer Ave\, Sayre\, PA\, 18840\, United States
CATEGORIES:Events for All Ages
ATTACH;FMTTYPE=image/png:https://sayrepl.org/wp-content/uploads/2023/11/Laptop-Computer-Instagram-Post-5.png
END:VEVENT
BEGIN:VEVENT
DTSTART;TZID=America/New_York:20281201T100000
DTEND;TZID=America/New_York:20281201T230000
DTSTAMP:20260425T062942
CREATED:20240227T164158Z
LAST-MODIFIED:20251229T193456Z
UID:10001809-1859277600-1859324400@sayrepl.org
SUMMARY:Tech Help
DESCRIPTION:Let our staff assist you with tech issues and computer help. Bring in a device\, a tech problem\, or a question and we will assist you! Tech Help runs on a first come\, first served basis.
URL:https://sayrepl.org/event/friday-tech-help-2-2/2028-12-01/
LOCATION:Sayre Public Library\, 122 S Elmer Ave\, Sayre\, PA\, 18840\, United States
CATEGORIES:Events for All Ages
ATTACH;FMTTYPE=image/png:https://sayrepl.org/wp-content/uploads/2023/11/Laptop-Computer-Instagram-Post-5.png
END:VEVENT
BEGIN:VEVENT
DTSTART;TZID=America/New_York:20281208T100000
DTEND;TZID=America/New_York:20281208T230000
DTSTAMP:20260425T062942
CREATED:20240227T164158Z
LAST-MODIFIED:20251229T193456Z
UID:10001810-1859882400-1859929200@sayrepl.org
SUMMARY:Tech Help
DESCRIPTION:Let our staff assist you with tech issues and computer help. Bring in a device\, a tech problem\, or a question and we will assist you! Tech Help runs on a first come\, first served basis.
URL:https://sayrepl.org/event/friday-tech-help-2-2/2028-12-08/
LOCATION:Sayre Public Library\, 122 S Elmer Ave\, Sayre\, PA\, 18840\, United States
CATEGORIES:Events for All Ages
ATTACH;FMTTYPE=image/png:https://sayrepl.org/wp-content/uploads/2023/11/Laptop-Computer-Instagram-Post-5.png
END:VEVENT
BEGIN:VEVENT
DTSTART;TZID=America/New_York:20281215T100000
DTEND;TZID=America/New_York:20281215T230000
DTSTAMP:20260425T062942
CREATED:20240227T164158Z
LAST-MODIFIED:20251229T193456Z
UID:10001811-1860487200-1860534000@sayrepl.org
SUMMARY:Tech Help
DESCRIPTION:Let our staff assist you with tech issues and computer help. Bring in a device\, a tech problem\, or a question and we will assist you! Tech Help runs on a first come\, first served basis.
URL:https://sayrepl.org/event/friday-tech-help-2-2/2028-12-15/
LOCATION:Sayre Public Library\, 122 S Elmer Ave\, Sayre\, PA\, 18840\, United States
CATEGORIES:Events for All Ages
ATTACH;FMTTYPE=image/png:https://sayrepl.org/wp-content/uploads/2023/11/Laptop-Computer-Instagram-Post-5.png
END:VEVENT
BEGIN:VEVENT
DTSTART;TZID=America/New_York:20281222T100000
DTEND;TZID=America/New_York:20281222T230000
DTSTAMP:20260425T062942
CREATED:20240227T164158Z
LAST-MODIFIED:20251229T193456Z
UID:10001812-1861092000-1861138800@sayrepl.org
SUMMARY:Tech Help
DESCRIPTION:Let our staff assist you with tech issues and computer help. Bring in a device\, a tech problem\, or a question and we will assist you! Tech Help runs on a first come\, first served basis.
URL:https://sayrepl.org/event/friday-tech-help-2-2/2028-12-22/
LOCATION:Sayre Public Library\, 122 S Elmer Ave\, Sayre\, PA\, 18840\, United States
CATEGORIES:Events for All Ages
ATTACH;FMTTYPE=image/png:https://sayrepl.org/wp-content/uploads/2023/11/Laptop-Computer-Instagram-Post-5.png
END:VEVENT
BEGIN:VEVENT
DTSTART;TZID=America/New_York:20281229T100000
DTEND;TZID=America/New_York:20281229T230000
DTSTAMP:20260425T062942
CREATED:20240227T164158Z
LAST-MODIFIED:20251229T193456Z
UID:10001813-1861696800-1861743600@sayrepl.org
SUMMARY:Tech Help
DESCRIPTION:Let our staff assist you with tech issues and computer help. Bring in a device\, a tech problem\, or a question and we will assist you! Tech Help runs on a first come\, first served basis.
URL:https://sayrepl.org/event/friday-tech-help-2-2/2028-12-29/
LOCATION:Sayre Public Library\, 122 S Elmer Ave\, Sayre\, PA\, 18840\, United States
CATEGORIES:Events for All Ages
ATTACH;FMTTYPE=image/png:https://sayrepl.org/wp-content/uploads/2023/11/Laptop-Computer-Instagram-Post-5.png
END:VEVENT
BEGIN:VEVENT
DTSTART;TZID=America/New_York:20290105T100000
DTEND;TZID=America/New_York:20290105T230000
DTSTAMP:20260425T062942
CREATED:20240227T164158Z
LAST-MODIFIED:20251229T193456Z
UID:10001814-1862301600-1862348400@sayrepl.org
SUMMARY:Tech Help
DESCRIPTION:Let our staff assist you with tech issues and computer help. Bring in a device\, a tech problem\, or a question and we will assist you! Tech Help runs on a first come\, first served basis.
URL:https://sayrepl.org/event/friday-tech-help-2-2/2029-01-05/
LOCATION:Sayre Public Library\, 122 S Elmer Ave\, Sayre\, PA\, 18840\, United States
CATEGORIES:Events for All Ages
ATTACH;FMTTYPE=image/png:https://sayrepl.org/wp-content/uploads/2023/11/Laptop-Computer-Instagram-Post-5.png
END:VEVENT
BEGIN:VEVENT
DTSTART;TZID=America/New_York:20290112T100000
DTEND;TZID=America/New_York:20290112T230000
DTSTAMP:20260425T062942
CREATED:20240227T164158Z
LAST-MODIFIED:20251229T193456Z
UID:10001815-1862906400-1862953200@sayrepl.org
SUMMARY:Tech Help
DESCRIPTION:Let our staff assist you with tech issues and computer help. Bring in a device\, a tech problem\, or a question and we will assist you! Tech Help runs on a first come\, first served basis.
URL:https://sayrepl.org/event/friday-tech-help-2-2/2029-01-12/
LOCATION:Sayre Public Library\, 122 S Elmer Ave\, Sayre\, PA\, 18840\, United States
CATEGORIES:Events for All Ages
ATTACH;FMTTYPE=image/png:https://sayrepl.org/wp-content/uploads/2023/11/Laptop-Computer-Instagram-Post-5.png
END:VEVENT
BEGIN:VEVENT
DTSTART;TZID=America/New_York:20290119T100000
DTEND;TZID=America/New_York:20290119T230000
DTSTAMP:20260425T062942
CREATED:20240227T164158Z
LAST-MODIFIED:20251229T193456Z
UID:10001816-1863511200-1863558000@sayrepl.org
SUMMARY:Tech Help
DESCRIPTION:Let our staff assist you with tech issues and computer help. Bring in a device\, a tech problem\, or a question and we will assist you! Tech Help runs on a first come\, first served basis.
URL:https://sayrepl.org/event/friday-tech-help-2-2/2029-01-19/
LOCATION:Sayre Public Library\, 122 S Elmer Ave\, Sayre\, PA\, 18840\, United States
CATEGORIES:Events for All Ages
ATTACH;FMTTYPE=image/png:https://sayrepl.org/wp-content/uploads/2023/11/Laptop-Computer-Instagram-Post-5.png
END:VEVENT
BEGIN:VEVENT
DTSTART;TZID=America/New_York:20290126T100000
DTEND;TZID=America/New_York:20290126T230000
DTSTAMP:20260425T062942
CREATED:20240227T164158Z
LAST-MODIFIED:20251229T193456Z
UID:10001817-1864116000-1864162800@sayrepl.org
SUMMARY:Tech Help
DESCRIPTION:Let our staff assist you with tech issues and computer help. Bring in a device\, a tech problem\, or a question and we will assist you! Tech Help runs on a first come\, first served basis.
URL:https://sayrepl.org/event/friday-tech-help-2-2/2029-01-26/
LOCATION:Sayre Public Library\, 122 S Elmer Ave\, Sayre\, PA\, 18840\, United States
CATEGORIES:Events for All Ages
ATTACH;FMTTYPE=image/png:https://sayrepl.org/wp-content/uploads/2023/11/Laptop-Computer-Instagram-Post-5.png
END:VEVENT
BEGIN:VEVENT
DTSTART;TZID=America/New_York:20290202T100000
DTEND;TZID=America/New_York:20290202T230000
DTSTAMP:20260425T062942
CREATED:20240227T164158Z
LAST-MODIFIED:20251229T193456Z
UID:10001818-1864720800-1864767600@sayrepl.org
SUMMARY:Tech Help
DESCRIPTION:Let our staff assist you with tech issues and computer help. Bring in a device\, a tech problem\, or a question and we will assist you! Tech Help runs on a first come\, first served basis.
URL:https://sayrepl.org/event/friday-tech-help-2-2/2029-02-02/
LOCATION:Sayre Public Library\, 122 S Elmer Ave\, Sayre\, PA\, 18840\, United States
CATEGORIES:Events for All Ages
ATTACH;FMTTYPE=image/png:https://sayrepl.org/wp-content/uploads/2023/11/Laptop-Computer-Instagram-Post-5.png
END:VEVENT
BEGIN:VEVENT
DTSTART;TZID=America/New_York:20290209T100000
DTEND;TZID=America/New_York:20290209T230000
DTSTAMP:20260425T062942
CREATED:20240227T164158Z
LAST-MODIFIED:20251229T193456Z
UID:10001819-1865325600-1865372400@sayrepl.org
SUMMARY:Tech Help
DESCRIPTION:Let our staff assist you with tech issues and computer help. Bring in a device\, a tech problem\, or a question and we will assist you! Tech Help runs on a first come\, first served basis.
URL:https://sayrepl.org/event/friday-tech-help-2-2/2029-02-09/
LOCATION:Sayre Public Library\, 122 S Elmer Ave\, Sayre\, PA\, 18840\, United States
CATEGORIES:Events for All Ages
ATTACH;FMTTYPE=image/png:https://sayrepl.org/wp-content/uploads/2023/11/Laptop-Computer-Instagram-Post-5.png
END:VEVENT
BEGIN:VEVENT
DTSTART;TZID=America/New_York:20290216T100000
DTEND;TZID=America/New_York:20290216T230000
DTSTAMP:20260425T062942
CREATED:20240227T164158Z
LAST-MODIFIED:20251229T193456Z
UID:10001820-1865930400-1865977200@sayrepl.org
SUMMARY:Tech Help
DESCRIPTION:Let our staff assist you with tech issues and computer help. Bring in a device\, a tech problem\, or a question and we will assist you! Tech Help runs on a first come\, first served basis.
URL:https://sayrepl.org/event/friday-tech-help-2-2/2029-02-16/
LOCATION:Sayre Public Library\, 122 S Elmer Ave\, Sayre\, PA\, 18840\, United States
CATEGORIES:Events for All Ages
ATTACH;FMTTYPE=image/png:https://sayrepl.org/wp-content/uploads/2023/11/Laptop-Computer-Instagram-Post-5.png
END:VEVENT
BEGIN:VEVENT
DTSTART;TZID=America/New_York:20290223T100000
DTEND;TZID=America/New_York:20290223T230000
DTSTAMP:20260425T062942
CREATED:20240227T164158Z
LAST-MODIFIED:20251229T193456Z
UID:10001821-1866535200-1866582000@sayrepl.org
SUMMARY:Tech Help
DESCRIPTION:Let our staff assist you with tech issues and computer help. Bring in a device\, a tech problem\, or a question and we will assist you! Tech Help runs on a first come\, first served basis.
URL:https://sayrepl.org/event/friday-tech-help-2-2/2029-02-23/
LOCATION:Sayre Public Library\, 122 S Elmer Ave\, Sayre\, PA\, 18840\, United States
CATEGORIES:Events for All Ages
ATTACH;FMTTYPE=image/png:https://sayrepl.org/wp-content/uploads/2023/11/Laptop-Computer-Instagram-Post-5.png
END:VEVENT
BEGIN:VEVENT
DTSTART;TZID=America/New_York:20290302T100000
DTEND;TZID=America/New_York:20290302T230000
DTSTAMP:20260425T062942
CREATED:20240227T164158Z
LAST-MODIFIED:20251229T193456Z
UID:10002981-1867140000-1867186800@sayrepl.org
SUMMARY:Tech Help
DESCRIPTION:Let our staff assist you with tech issues and computer help. Bring in a device\, a tech problem\, or a question and we will assist you! Tech Help runs on a first come\, first served basis.
URL:https://sayrepl.org/event/friday-tech-help-2-2/2029-03-02/
LOCATION:Sayre Public Library\, 122 S Elmer Ave\, Sayre\, PA\, 18840\, United States
CATEGORIES:Events for All Ages
ATTACH;FMTTYPE=image/png:https://sayrepl.org/wp-content/uploads/2023/11/Laptop-Computer-Instagram-Post-5.png
END:VEVENT
BEGIN:VEVENT
DTSTART;TZID=America/New_York:20290309T100000
DTEND;TZID=America/New_York:20290309T230000
DTSTAMP:20260425T062942
CREATED:20240227T164158Z
LAST-MODIFIED:20251229T193456Z
UID:10002982-1867744800-1867791600@sayrepl.org
SUMMARY:Tech Help
DESCRIPTION:Let our staff assist you with tech issues and computer help. Bring in a device\, a tech problem\, or a question and we will assist you! Tech Help runs on a first come\, first served basis.
URL:https://sayrepl.org/event/friday-tech-help-2-2/2029-03-09/
LOCATION:Sayre Public Library\, 122 S Elmer Ave\, Sayre\, PA\, 18840\, United States
CATEGORIES:Events for All Ages
ATTACH;FMTTYPE=image/png:https://sayrepl.org/wp-content/uploads/2023/11/Laptop-Computer-Instagram-Post-5.png
END:VEVENT
BEGIN:VEVENT
DTSTART;TZID=America/New_York:20290316T100000
DTEND;TZID=America/New_York:20290316T230000
DTSTAMP:20260425T062942
CREATED:20240227T164158Z
LAST-MODIFIED:20251229T193456Z
UID:10002983-1868349600-1868396400@sayrepl.org
SUMMARY:Tech Help
DESCRIPTION:Let our staff assist you with tech issues and computer help. Bring in a device\, a tech problem\, or a question and we will assist you! Tech Help runs on a first come\, first served basis.
URL:https://sayrepl.org/event/friday-tech-help-2-2/2029-03-16/
LOCATION:Sayre Public Library\, 122 S Elmer Ave\, Sayre\, PA\, 18840\, United States
CATEGORIES:Events for All Ages
ATTACH;FMTTYPE=image/png:https://sayrepl.org/wp-content/uploads/2023/11/Laptop-Computer-Instagram-Post-5.png
END:VEVENT
BEGIN:VEVENT
DTSTART;TZID=America/New_York:20290323T100000
DTEND;TZID=America/New_York:20290323T230000
DTSTAMP:20260425T062942
CREATED:20240227T164158Z
LAST-MODIFIED:20251229T193456Z
UID:10002984-1868954400-1869001200@sayrepl.org
SUMMARY:Tech Help
DESCRIPTION:Let our staff assist you with tech issues and computer help. Bring in a device\, a tech problem\, or a question and we will assist you! Tech Help runs on a first come\, first served basis.
URL:https://sayrepl.org/event/friday-tech-help-2-2/2029-03-23/
LOCATION:Sayre Public Library\, 122 S Elmer Ave\, Sayre\, PA\, 18840\, United States
CATEGORIES:Events for All Ages
ATTACH;FMTTYPE=image/png:https://sayrepl.org/wp-content/uploads/2023/11/Laptop-Computer-Instagram-Post-5.png
END:VEVENT
BEGIN:VEVENT
DTSTART;TZID=America/New_York:20290330T100000
DTEND;TZID=America/New_York:20290330T230000
DTSTAMP:20260425T062942
CREATED:20240227T164158Z
LAST-MODIFIED:20251229T193456Z
UID:10002985-1869559200-1869606000@sayrepl.org
SUMMARY:Tech Help
DESCRIPTION:Let our staff assist you with tech issues and computer help. Bring in a device\, a tech problem\, or a question and we will assist you! Tech Help runs on a first come\, first served basis.
URL:https://sayrepl.org/event/friday-tech-help-2-2/2029-03-30/
LOCATION:Sayre Public Library\, 122 S Elmer Ave\, Sayre\, PA\, 18840\, United States
CATEGORIES:Events for All Ages
ATTACH;FMTTYPE=image/png:https://sayrepl.org/wp-content/uploads/2023/11/Laptop-Computer-Instagram-Post-5.png
END:VEVENT
BEGIN:VEVENT
DTSTART;TZID=America/New_York:20290406T100000
DTEND;TZID=America/New_York:20290406T230000
DTSTAMP:20260425T062942
CREATED:20240227T164158Z
LAST-MODIFIED:20251229T193456Z
UID:10002986-1870164000-1870210800@sayrepl.org
SUMMARY:Tech Help
DESCRIPTION:Let our staff assist you with tech issues and computer help. Bring in a device\, a tech problem\, or a question and we will assist you! Tech Help runs on a first come\, first served basis.
URL:https://sayrepl.org/event/friday-tech-help-2-2/2029-04-06/
LOCATION:Sayre Public Library\, 122 S Elmer Ave\, Sayre\, PA\, 18840\, United States
CATEGORIES:Events for All Ages
ATTACH;FMTTYPE=image/png:https://sayrepl.org/wp-content/uploads/2023/11/Laptop-Computer-Instagram-Post-5.png
END:VEVENT
BEGIN:VEVENT
DTSTART;TZID=America/New_York:20290413T100000
DTEND;TZID=America/New_York:20290413T230000
DTSTAMP:20260425T062942
CREATED:20240227T164158Z
LAST-MODIFIED:20251229T193456Z
UID:10002987-1870768800-1870815600@sayrepl.org
SUMMARY:Tech Help
DESCRIPTION:Let our staff assist you with tech issues and computer help. Bring in a device\, a tech problem\, or a question and we will assist you! Tech Help runs on a first come\, first served basis.
URL:https://sayrepl.org/event/friday-tech-help-2-2/2029-04-13/
LOCATION:Sayre Public Library\, 122 S Elmer Ave\, Sayre\, PA\, 18840\, United States
CATEGORIES:Events for All Ages
ATTACH;FMTTYPE=image/png:https://sayrepl.org/wp-content/uploads/2023/11/Laptop-Computer-Instagram-Post-5.png
END:VEVENT
BEGIN:VEVENT
DTSTART;TZID=America/New_York:20290420T100000
DTEND;TZID=America/New_York:20290420T230000
DTSTAMP:20260425T062942
CREATED:20240227T164158Z
LAST-MODIFIED:20251229T193456Z
UID:10002988-1871373600-1871420400@sayrepl.org
SUMMARY:Tech Help
DESCRIPTION:Let our staff assist you with tech issues and computer help. Bring in a device\, a tech problem\, or a question and we will assist you! Tech Help runs on a first come\, first served basis.
URL:https://sayrepl.org/event/friday-tech-help-2-2/2029-04-20/
LOCATION:Sayre Public Library\, 122 S Elmer Ave\, Sayre\, PA\, 18840\, United States
CATEGORIES:Events for All Ages
ATTACH;FMTTYPE=image/png:https://sayrepl.org/wp-content/uploads/2023/11/Laptop-Computer-Instagram-Post-5.png
END:VEVENT
BEGIN:VEVENT
DTSTART;TZID=America/New_York:20290427T100000
DTEND;TZID=America/New_York:20290427T230000
DTSTAMP:20260425T062942
CREATED:20240227T164158Z
LAST-MODIFIED:20251229T193456Z
UID:10002989-1871978400-1872025200@sayrepl.org
SUMMARY:Tech Help
DESCRIPTION:Let our staff assist you with tech issues and computer help. Bring in a device\, a tech problem\, or a question and we will assist you! Tech Help runs on a first come\, first served basis.
URL:https://sayrepl.org/event/friday-tech-help-2-2/2029-04-27/
LOCATION:Sayre Public Library\, 122 S Elmer Ave\, Sayre\, PA\, 18840\, United States
CATEGORIES:Events for All Ages
ATTACH;FMTTYPE=image/png:https://sayrepl.org/wp-content/uploads/2023/11/Laptop-Computer-Instagram-Post-5.png
END:VEVENT
BEGIN:VEVENT
DTSTART;TZID=America/New_York:20290504T100000
DTEND;TZID=America/New_York:20290504T230000
DTSTAMP:20260425T062942
CREATED:20240227T164158Z
LAST-MODIFIED:20251229T193456Z
UID:10002990-1872583200-1872630000@sayrepl.org
SUMMARY:Tech Help
DESCRIPTION:Let our staff assist you with tech issues and computer help. Bring in a device\, a tech problem\, or a question and we will assist you! Tech Help runs on a first come\, first served basis.
URL:https://sayrepl.org/event/friday-tech-help-2-2/2029-05-04/
LOCATION:Sayre Public Library\, 122 S Elmer Ave\, Sayre\, PA\, 18840\, United States
CATEGORIES:Events for All Ages
ATTACH;FMTTYPE=image/png:https://sayrepl.org/wp-content/uploads/2023/11/Laptop-Computer-Instagram-Post-5.png
END:VEVENT
BEGIN:VEVENT
DTSTART;TZID=America/New_York:20290511T100000
DTEND;TZID=America/New_York:20290511T230000
DTSTAMP:20260425T062942
CREATED:20240227T164158Z
LAST-MODIFIED:20251229T193456Z
UID:10002991-1873188000-1873234800@sayrepl.org
SUMMARY:Tech Help
DESCRIPTION:Let our staff assist you with tech issues and computer help. Bring in a device\, a tech problem\, or a question and we will assist you! Tech Help runs on a first come\, first served basis.
URL:https://sayrepl.org/event/friday-tech-help-2-2/2029-05-11/
LOCATION:Sayre Public Library\, 122 S Elmer Ave\, Sayre\, PA\, 18840\, United States
CATEGORIES:Events for All Ages
ATTACH;FMTTYPE=image/png:https://sayrepl.org/wp-content/uploads/2023/11/Laptop-Computer-Instagram-Post-5.png
END:VEVENT
BEGIN:VEVENT
DTSTART;TZID=America/New_York:20290518T100000
DTEND;TZID=America/New_York:20290518T230000
DTSTAMP:20260425T062942
CREATED:20240227T164158Z
LAST-MODIFIED:20251229T193456Z
UID:10002992-1873792800-1873839600@sayrepl.org
SUMMARY:Tech Help
DESCRIPTION:Let our staff assist you with tech issues and computer help. Bring in a device\, a tech problem\, or a question and we will assist you! Tech Help runs on a first come\, first served basis.
URL:https://sayrepl.org/event/friday-tech-help-2-2/2029-05-18/
LOCATION:Sayre Public Library\, 122 S Elmer Ave\, Sayre\, PA\, 18840\, United States
CATEGORIES:Events for All Ages
ATTACH;FMTTYPE=image/png:https://sayrepl.org/wp-content/uploads/2023/11/Laptop-Computer-Instagram-Post-5.png
END:VEVENT
BEGIN:VEVENT
DTSTART;TZID=America/New_York:20290525T100000
DTEND;TZID=America/New_York:20290525T230000
DTSTAMP:20260425T062942
CREATED:20240227T164158Z
LAST-MODIFIED:20251229T193456Z
UID:10002993-1874397600-1874444400@sayrepl.org
SUMMARY:Tech Help
DESCRIPTION:Let our staff assist you with tech issues and computer help. Bring in a device\, a tech problem\, or a question and we will assist you! Tech Help runs on a first come\, first served basis.
URL:https://sayrepl.org/event/friday-tech-help-2-2/2029-05-25/
LOCATION:Sayre Public Library\, 122 S Elmer Ave\, Sayre\, PA\, 18840\, United States
CATEGORIES:Events for All Ages
ATTACH;FMTTYPE=image/png:https://sayrepl.org/wp-content/uploads/2023/11/Laptop-Computer-Instagram-Post-5.png
END:VEVENT
END:VCALENDAR