BEGIN:VCALENDAR
VERSION:2.0
PRODID:-//Sayre Public Library - ECPv6.15.16//NONSGML v1.0//EN
CALSCALE:GREGORIAN
METHOD:PUBLISH
X-WR-CALNAME:Sayre Public Library
X-ORIGINAL-URL:https://sayrepl.org
X-WR-CALDESC:Events for Sayre Public Library
REFRESH-INTERVAL;VALUE=DURATION:PT1H
X-Robots-Tag:noindex
X-PUBLISHED-TTL:PT1H
BEGIN:VTIMEZONE
TZID:America/New_York
BEGIN:DAYLIGHT
TZOFFSETFROM:-0500
TZOFFSETTO:-0400
TZNAME:EDT
DTSTART:20250309T070000
END:DAYLIGHT
BEGIN:STANDARD
TZOFFSETFROM:-0400
TZOFFSETTO:-0500
TZNAME:EST
DTSTART:20251102T060000
END:STANDARD
BEGIN:DAYLIGHT
TZOFFSETFROM:-0500
TZOFFSETTO:-0400
TZNAME:EDT
DTSTART:20260308T070000
END:DAYLIGHT
BEGIN:STANDARD
TZOFFSETFROM:-0400
TZOFFSETTO:-0500
TZNAME:EST
DTSTART:20261101T060000
END:STANDARD
BEGIN:DAYLIGHT
TZOFFSETFROM:-0500
TZOFFSETTO:-0400
TZNAME:EDT
DTSTART:20270314T070000
END:DAYLIGHT
BEGIN:STANDARD
TZOFFSETFROM:-0400
TZOFFSETTO:-0500
TZNAME:EST
DTSTART:20271107T060000
END:STANDARD
BEGIN:DAYLIGHT
TZOFFSETFROM:-0500
TZOFFSETTO:-0400
TZNAME:EDT
DTSTART:20280312T070000
END:DAYLIGHT
BEGIN:STANDARD
TZOFFSETFROM:-0400
TZOFFSETTO:-0500
TZNAME:EST
DTSTART:20281105T060000
END:STANDARD
END:VTIMEZONE
BEGIN:VEVENT
DTSTART;TZID=America/New_York:20260918T100000
DTEND;TZID=America/New_York:20260918T230000
DTSTAMP:20260424T130641
CREATED:20240227T164158Z
LAST-MODIFIED:20251229T193456Z
UID:10001694-1789725600-1789772400@sayrepl.org
SUMMARY:Tech Help
DESCRIPTION:Let our staff assist you with tech issues and computer help. Bring in a device\, a tech problem\, or a question and we will assist you! Tech Help runs on a first come\, first served basis.
URL:https://sayrepl.org/event/friday-tech-help-2-2/2026-09-18/
LOCATION:Sayre Public Library\, 122 S Elmer Ave\, Sayre\, PA\, 18840\, United States
CATEGORIES:Events for All Ages
ATTACH;FMTTYPE=image/png:https://sayrepl.org/wp-content/uploads/2023/11/Laptop-Computer-Instagram-Post-5.png
END:VEVENT
BEGIN:VEVENT
DTSTART;TZID=America/New_York:20260925T100000
DTEND;TZID=America/New_York:20260925T230000
DTSTAMP:20260424T130641
CREATED:20240227T164158Z
LAST-MODIFIED:20251229T193456Z
UID:10001695-1790330400-1790377200@sayrepl.org
SUMMARY:Tech Help
DESCRIPTION:Let our staff assist you with tech issues and computer help. Bring in a device\, a tech problem\, or a question and we will assist you! Tech Help runs on a first come\, first served basis.
URL:https://sayrepl.org/event/friday-tech-help-2-2/2026-09-25/
LOCATION:Sayre Public Library\, 122 S Elmer Ave\, Sayre\, PA\, 18840\, United States
CATEGORIES:Events for All Ages
ATTACH;FMTTYPE=image/png:https://sayrepl.org/wp-content/uploads/2023/11/Laptop-Computer-Instagram-Post-5.png
END:VEVENT
BEGIN:VEVENT
DTSTART;TZID=America/New_York:20261002T100000
DTEND;TZID=America/New_York:20261002T230000
DTSTAMP:20260424T130641
CREATED:20240227T164158Z
LAST-MODIFIED:20251229T193456Z
UID:10001696-1790935200-1790982000@sayrepl.org
SUMMARY:Tech Help
DESCRIPTION:Let our staff assist you with tech issues and computer help. Bring in a device\, a tech problem\, or a question and we will assist you! Tech Help runs on a first come\, first served basis.
URL:https://sayrepl.org/event/friday-tech-help-2-2/2026-10-02/
LOCATION:Sayre Public Library\, 122 S Elmer Ave\, Sayre\, PA\, 18840\, United States
CATEGORIES:Events for All Ages
ATTACH;FMTTYPE=image/png:https://sayrepl.org/wp-content/uploads/2023/11/Laptop-Computer-Instagram-Post-5.png
END:VEVENT
BEGIN:VEVENT
DTSTART;TZID=America/New_York:20261009T100000
DTEND;TZID=America/New_York:20261009T230000
DTSTAMP:20260424T130641
CREATED:20240227T164158Z
LAST-MODIFIED:20251229T193456Z
UID:10001697-1791540000-1791586800@sayrepl.org
SUMMARY:Tech Help
DESCRIPTION:Let our staff assist you with tech issues and computer help. Bring in a device\, a tech problem\, or a question and we will assist you! Tech Help runs on a first come\, first served basis.
URL:https://sayrepl.org/event/friday-tech-help-2-2/2026-10-09/
LOCATION:Sayre Public Library\, 122 S Elmer Ave\, Sayre\, PA\, 18840\, United States
CATEGORIES:Events for All Ages
ATTACH;FMTTYPE=image/png:https://sayrepl.org/wp-content/uploads/2023/11/Laptop-Computer-Instagram-Post-5.png
END:VEVENT
BEGIN:VEVENT
DTSTART;TZID=America/New_York:20261016T100000
DTEND;TZID=America/New_York:20261016T230000
DTSTAMP:20260424T130641
CREATED:20240227T164158Z
LAST-MODIFIED:20251229T193456Z
UID:10001698-1792144800-1792191600@sayrepl.org
SUMMARY:Tech Help
DESCRIPTION:Let our staff assist you with tech issues and computer help. Bring in a device\, a tech problem\, or a question and we will assist you! Tech Help runs on a first come\, first served basis.
URL:https://sayrepl.org/event/friday-tech-help-2-2/2026-10-16/
LOCATION:Sayre Public Library\, 122 S Elmer Ave\, Sayre\, PA\, 18840\, United States
CATEGORIES:Events for All Ages
ATTACH;FMTTYPE=image/png:https://sayrepl.org/wp-content/uploads/2023/11/Laptop-Computer-Instagram-Post-5.png
END:VEVENT
BEGIN:VEVENT
DTSTART;TZID=America/New_York:20261023T100000
DTEND;TZID=America/New_York:20261023T230000
DTSTAMP:20260424T130641
CREATED:20240227T164158Z
LAST-MODIFIED:20251229T193456Z
UID:10001699-1792749600-1792796400@sayrepl.org
SUMMARY:Tech Help
DESCRIPTION:Let our staff assist you with tech issues and computer help. Bring in a device\, a tech problem\, or a question and we will assist you! Tech Help runs on a first come\, first served basis.
URL:https://sayrepl.org/event/friday-tech-help-2-2/2026-10-23/
LOCATION:Sayre Public Library\, 122 S Elmer Ave\, Sayre\, PA\, 18840\, United States
CATEGORIES:Events for All Ages
ATTACH;FMTTYPE=image/png:https://sayrepl.org/wp-content/uploads/2023/11/Laptop-Computer-Instagram-Post-5.png
END:VEVENT
BEGIN:VEVENT
DTSTART;TZID=America/New_York:20261030T100000
DTEND;TZID=America/New_York:20261030T230000
DTSTAMP:20260424T130641
CREATED:20240227T164158Z
LAST-MODIFIED:20251229T193456Z
UID:10001700-1793354400-1793401200@sayrepl.org
SUMMARY:Tech Help
DESCRIPTION:Let our staff assist you with tech issues and computer help. Bring in a device\, a tech problem\, or a question and we will assist you! Tech Help runs on a first come\, first served basis.
URL:https://sayrepl.org/event/friday-tech-help-2-2/2026-10-30/
LOCATION:Sayre Public Library\, 122 S Elmer Ave\, Sayre\, PA\, 18840\, United States
CATEGORIES:Events for All Ages
ATTACH;FMTTYPE=image/png:https://sayrepl.org/wp-content/uploads/2023/11/Laptop-Computer-Instagram-Post-5.png
END:VEVENT
BEGIN:VEVENT
DTSTART;TZID=America/New_York:20261106T100000
DTEND;TZID=America/New_York:20261106T230000
DTSTAMP:20260424T130641
CREATED:20240227T164158Z
LAST-MODIFIED:20251229T193456Z
UID:10001701-1793959200-1794006000@sayrepl.org
SUMMARY:Tech Help
DESCRIPTION:Let our staff assist you with tech issues and computer help. Bring in a device\, a tech problem\, or a question and we will assist you! Tech Help runs on a first come\, first served basis.
URL:https://sayrepl.org/event/friday-tech-help-2-2/2026-11-06/
LOCATION:Sayre Public Library\, 122 S Elmer Ave\, Sayre\, PA\, 18840\, United States
CATEGORIES:Events for All Ages
ATTACH;FMTTYPE=image/png:https://sayrepl.org/wp-content/uploads/2023/11/Laptop-Computer-Instagram-Post-5.png
END:VEVENT
BEGIN:VEVENT
DTSTART;TZID=America/New_York:20261113T100000
DTEND;TZID=America/New_York:20261113T230000
DTSTAMP:20260424T130641
CREATED:20240227T164158Z
LAST-MODIFIED:20251229T193456Z
UID:10001702-1794564000-1794610800@sayrepl.org
SUMMARY:Tech Help
DESCRIPTION:Let our staff assist you with tech issues and computer help. Bring in a device\, a tech problem\, or a question and we will assist you! Tech Help runs on a first come\, first served basis.
URL:https://sayrepl.org/event/friday-tech-help-2-2/2026-11-13/
LOCATION:Sayre Public Library\, 122 S Elmer Ave\, Sayre\, PA\, 18840\, United States
CATEGORIES:Events for All Ages
ATTACH;FMTTYPE=image/png:https://sayrepl.org/wp-content/uploads/2023/11/Laptop-Computer-Instagram-Post-5.png
END:VEVENT
BEGIN:VEVENT
DTSTART;TZID=America/New_York:20261120T100000
DTEND;TZID=America/New_York:20261120T230000
DTSTAMP:20260424T130641
CREATED:20240227T164158Z
LAST-MODIFIED:20251229T193456Z
UID:10001703-1795168800-1795215600@sayrepl.org
SUMMARY:Tech Help
DESCRIPTION:Let our staff assist you with tech issues and computer help. Bring in a device\, a tech problem\, or a question and we will assist you! Tech Help runs on a first come\, first served basis.
URL:https://sayrepl.org/event/friday-tech-help-2-2/2026-11-20/
LOCATION:Sayre Public Library\, 122 S Elmer Ave\, Sayre\, PA\, 18840\, United States
CATEGORIES:Events for All Ages
ATTACH;FMTTYPE=image/png:https://sayrepl.org/wp-content/uploads/2023/11/Laptop-Computer-Instagram-Post-5.png
END:VEVENT
BEGIN:VEVENT
DTSTART;TZID=America/New_York:20261127T100000
DTEND;TZID=America/New_York:20261127T230000
DTSTAMP:20260424T130641
CREATED:20240227T164158Z
LAST-MODIFIED:20251229T193456Z
UID:10001704-1795773600-1795820400@sayrepl.org
SUMMARY:Tech Help
DESCRIPTION:Let our staff assist you with tech issues and computer help. Bring in a device\, a tech problem\, or a question and we will assist you! Tech Help runs on a first come\, first served basis.
URL:https://sayrepl.org/event/friday-tech-help-2-2/2026-11-27/
LOCATION:Sayre Public Library\, 122 S Elmer Ave\, Sayre\, PA\, 18840\, United States
CATEGORIES:Events for All Ages
ATTACH;FMTTYPE=image/png:https://sayrepl.org/wp-content/uploads/2023/11/Laptop-Computer-Instagram-Post-5.png
END:VEVENT
BEGIN:VEVENT
DTSTART;TZID=America/New_York:20261204T100000
DTEND;TZID=America/New_York:20261204T230000
DTSTAMP:20260424T130641
CREATED:20240227T164158Z
LAST-MODIFIED:20251229T193456Z
UID:10001705-1796378400-1796425200@sayrepl.org
SUMMARY:Tech Help
DESCRIPTION:Let our staff assist you with tech issues and computer help. Bring in a device\, a tech problem\, or a question and we will assist you! Tech Help runs on a first come\, first served basis.
URL:https://sayrepl.org/event/friday-tech-help-2-2/2026-12-04/
LOCATION:Sayre Public Library\, 122 S Elmer Ave\, Sayre\, PA\, 18840\, United States
CATEGORIES:Events for All Ages
ATTACH;FMTTYPE=image/png:https://sayrepl.org/wp-content/uploads/2023/11/Laptop-Computer-Instagram-Post-5.png
END:VEVENT
BEGIN:VEVENT
DTSTART;TZID=America/New_York:20261211T100000
DTEND;TZID=America/New_York:20261211T230000
DTSTAMP:20260424T130641
CREATED:20240227T164158Z
LAST-MODIFIED:20251229T193456Z
UID:10001706-1796983200-1797030000@sayrepl.org
SUMMARY:Tech Help
DESCRIPTION:Let our staff assist you with tech issues and computer help. Bring in a device\, a tech problem\, or a question and we will assist you! Tech Help runs on a first come\, first served basis.
URL:https://sayrepl.org/event/friday-tech-help-2-2/2026-12-11/
LOCATION:Sayre Public Library\, 122 S Elmer Ave\, Sayre\, PA\, 18840\, United States
CATEGORIES:Events for All Ages
ATTACH;FMTTYPE=image/png:https://sayrepl.org/wp-content/uploads/2023/11/Laptop-Computer-Instagram-Post-5.png
END:VEVENT
BEGIN:VEVENT
DTSTART;TZID=America/New_York:20261218T100000
DTEND;TZID=America/New_York:20261218T230000
DTSTAMP:20260424T130641
CREATED:20240227T164158Z
LAST-MODIFIED:20251229T193456Z
UID:10001707-1797588000-1797634800@sayrepl.org
SUMMARY:Tech Help
DESCRIPTION:Let our staff assist you with tech issues and computer help. Bring in a device\, a tech problem\, or a question and we will assist you! Tech Help runs on a first come\, first served basis.
URL:https://sayrepl.org/event/friday-tech-help-2-2/2026-12-18/
LOCATION:Sayre Public Library\, 122 S Elmer Ave\, Sayre\, PA\, 18840\, United States
CATEGORIES:Events for All Ages
ATTACH;FMTTYPE=image/png:https://sayrepl.org/wp-content/uploads/2023/11/Laptop-Computer-Instagram-Post-5.png
END:VEVENT
BEGIN:VEVENT
DTSTART;TZID=America/New_York:20261225T100000
DTEND;TZID=America/New_York:20261225T230000
DTSTAMP:20260424T130641
CREATED:20240227T164158Z
LAST-MODIFIED:20251229T193456Z
UID:10001708-1798192800-1798239600@sayrepl.org
SUMMARY:Tech Help
DESCRIPTION:Let our staff assist you with tech issues and computer help. Bring in a device\, a tech problem\, or a question and we will assist you! Tech Help runs on a first come\, first served basis.
URL:https://sayrepl.org/event/friday-tech-help-2-2/2026-12-25/
LOCATION:Sayre Public Library\, 122 S Elmer Ave\, Sayre\, PA\, 18840\, United States
CATEGORIES:Events for All Ages
ATTACH;FMTTYPE=image/png:https://sayrepl.org/wp-content/uploads/2023/11/Laptop-Computer-Instagram-Post-5.png
END:VEVENT
BEGIN:VEVENT
DTSTART;TZID=America/New_York:20270101T100000
DTEND;TZID=America/New_York:20270101T230000
DTSTAMP:20260424T130641
CREATED:20240227T164158Z
LAST-MODIFIED:20251229T193456Z
UID:10001709-1798797600-1798844400@sayrepl.org
SUMMARY:Tech Help
DESCRIPTION:Let our staff assist you with tech issues and computer help. Bring in a device\, a tech problem\, or a question and we will assist you! Tech Help runs on a first come\, first served basis.
URL:https://sayrepl.org/event/friday-tech-help-2-2/2027-01-01/
LOCATION:Sayre Public Library\, 122 S Elmer Ave\, Sayre\, PA\, 18840\, United States
CATEGORIES:Events for All Ages
ATTACH;FMTTYPE=image/png:https://sayrepl.org/wp-content/uploads/2023/11/Laptop-Computer-Instagram-Post-5.png
END:VEVENT
BEGIN:VEVENT
DTSTART;TZID=America/New_York:20270108T100000
DTEND;TZID=America/New_York:20270108T230000
DTSTAMP:20260424T130641
CREATED:20240227T164158Z
LAST-MODIFIED:20251229T193456Z
UID:10001710-1799402400-1799449200@sayrepl.org
SUMMARY:Tech Help
DESCRIPTION:Let our staff assist you with tech issues and computer help. Bring in a device\, a tech problem\, or a question and we will assist you! Tech Help runs on a first come\, first served basis.
URL:https://sayrepl.org/event/friday-tech-help-2-2/2027-01-08/
LOCATION:Sayre Public Library\, 122 S Elmer Ave\, Sayre\, PA\, 18840\, United States
CATEGORIES:Events for All Ages
ATTACH;FMTTYPE=image/png:https://sayrepl.org/wp-content/uploads/2023/11/Laptop-Computer-Instagram-Post-5.png
END:VEVENT
BEGIN:VEVENT
DTSTART;TZID=America/New_York:20270115T100000
DTEND;TZID=America/New_York:20270115T230000
DTSTAMP:20260424T130641
CREATED:20240227T164158Z
LAST-MODIFIED:20251229T193456Z
UID:10001711-1800007200-1800054000@sayrepl.org
SUMMARY:Tech Help
DESCRIPTION:Let our staff assist you with tech issues and computer help. Bring in a device\, a tech problem\, or a question and we will assist you! Tech Help runs on a first come\, first served basis.
URL:https://sayrepl.org/event/friday-tech-help-2-2/2027-01-15/
LOCATION:Sayre Public Library\, 122 S Elmer Ave\, Sayre\, PA\, 18840\, United States
CATEGORIES:Events for All Ages
ATTACH;FMTTYPE=image/png:https://sayrepl.org/wp-content/uploads/2023/11/Laptop-Computer-Instagram-Post-5.png
END:VEVENT
BEGIN:VEVENT
DTSTART;TZID=America/New_York:20270122T100000
DTEND;TZID=America/New_York:20270122T230000
DTSTAMP:20260424T130641
CREATED:20240227T164158Z
LAST-MODIFIED:20251229T193456Z
UID:10001712-1800612000-1800658800@sayrepl.org
SUMMARY:Tech Help
DESCRIPTION:Let our staff assist you with tech issues and computer help. Bring in a device\, a tech problem\, or a question and we will assist you! Tech Help runs on a first come\, first served basis.
URL:https://sayrepl.org/event/friday-tech-help-2-2/2027-01-22/
LOCATION:Sayre Public Library\, 122 S Elmer Ave\, Sayre\, PA\, 18840\, United States
CATEGORIES:Events for All Ages
ATTACH;FMTTYPE=image/png:https://sayrepl.org/wp-content/uploads/2023/11/Laptop-Computer-Instagram-Post-5.png
END:VEVENT
BEGIN:VEVENT
DTSTART;TZID=America/New_York:20270129T100000
DTEND;TZID=America/New_York:20270129T230000
DTSTAMP:20260424T130641
CREATED:20240227T164158Z
LAST-MODIFIED:20251229T193456Z
UID:10001713-1801216800-1801263600@sayrepl.org
SUMMARY:Tech Help
DESCRIPTION:Let our staff assist you with tech issues and computer help. Bring in a device\, a tech problem\, or a question and we will assist you! Tech Help runs on a first come\, first served basis.
URL:https://sayrepl.org/event/friday-tech-help-2-2/2027-01-29/
LOCATION:Sayre Public Library\, 122 S Elmer Ave\, Sayre\, PA\, 18840\, United States
CATEGORIES:Events for All Ages
ATTACH;FMTTYPE=image/png:https://sayrepl.org/wp-content/uploads/2023/11/Laptop-Computer-Instagram-Post-5.png
END:VEVENT
BEGIN:VEVENT
DTSTART;TZID=America/New_York:20270205T100000
DTEND;TZID=America/New_York:20270205T230000
DTSTAMP:20260424T130641
CREATED:20240227T164158Z
LAST-MODIFIED:20251229T193456Z
UID:10001714-1801821600-1801868400@sayrepl.org
SUMMARY:Tech Help
DESCRIPTION:Let our staff assist you with tech issues and computer help. Bring in a device\, a tech problem\, or a question and we will assist you! Tech Help runs on a first come\, first served basis.
URL:https://sayrepl.org/event/friday-tech-help-2-2/2027-02-05/
LOCATION:Sayre Public Library\, 122 S Elmer Ave\, Sayre\, PA\, 18840\, United States
CATEGORIES:Events for All Ages
ATTACH;FMTTYPE=image/png:https://sayrepl.org/wp-content/uploads/2023/11/Laptop-Computer-Instagram-Post-5.png
END:VEVENT
BEGIN:VEVENT
DTSTART;TZID=America/New_York:20270212T100000
DTEND;TZID=America/New_York:20270212T230000
DTSTAMP:20260424T130641
CREATED:20240227T164158Z
LAST-MODIFIED:20251229T193456Z
UID:10001715-1802426400-1802473200@sayrepl.org
SUMMARY:Tech Help
DESCRIPTION:Let our staff assist you with tech issues and computer help. Bring in a device\, a tech problem\, or a question and we will assist you! Tech Help runs on a first come\, first served basis.
URL:https://sayrepl.org/event/friday-tech-help-2-2/2027-02-12/
LOCATION:Sayre Public Library\, 122 S Elmer Ave\, Sayre\, PA\, 18840\, United States
CATEGORIES:Events for All Ages
ATTACH;FMTTYPE=image/png:https://sayrepl.org/wp-content/uploads/2023/11/Laptop-Computer-Instagram-Post-5.png
END:VEVENT
BEGIN:VEVENT
DTSTART;TZID=America/New_York:20270219T100000
DTEND;TZID=America/New_York:20270219T230000
DTSTAMP:20260424T130641
CREATED:20240227T164158Z
LAST-MODIFIED:20251229T193456Z
UID:10001716-1803031200-1803078000@sayrepl.org
SUMMARY:Tech Help
DESCRIPTION:Let our staff assist you with tech issues and computer help. Bring in a device\, a tech problem\, or a question and we will assist you! Tech Help runs on a first come\, first served basis.
URL:https://sayrepl.org/event/friday-tech-help-2-2/2027-02-19/
LOCATION:Sayre Public Library\, 122 S Elmer Ave\, Sayre\, PA\, 18840\, United States
CATEGORIES:Events for All Ages
ATTACH;FMTTYPE=image/png:https://sayrepl.org/wp-content/uploads/2023/11/Laptop-Computer-Instagram-Post-5.png
END:VEVENT
BEGIN:VEVENT
DTSTART;TZID=America/New_York:20270226T100000
DTEND;TZID=America/New_York:20270226T230000
DTSTAMP:20260424T130641
CREATED:20240227T164158Z
LAST-MODIFIED:20251229T193456Z
UID:10001717-1803636000-1803682800@sayrepl.org
SUMMARY:Tech Help
DESCRIPTION:Let our staff assist you with tech issues and computer help. Bring in a device\, a tech problem\, or a question and we will assist you! Tech Help runs on a first come\, first served basis.
URL:https://sayrepl.org/event/friday-tech-help-2-2/2027-02-26/
LOCATION:Sayre Public Library\, 122 S Elmer Ave\, Sayre\, PA\, 18840\, United States
CATEGORIES:Events for All Ages
ATTACH;FMTTYPE=image/png:https://sayrepl.org/wp-content/uploads/2023/11/Laptop-Computer-Instagram-Post-5.png
END:VEVENT
BEGIN:VEVENT
DTSTART;TZID=America/New_York:20270305T100000
DTEND;TZID=America/New_York:20270305T230000
DTSTAMP:20260424T130641
CREATED:20240227T164158Z
LAST-MODIFIED:20251229T193456Z
UID:10001718-1804240800-1804287600@sayrepl.org
SUMMARY:Tech Help
DESCRIPTION:Let our staff assist you with tech issues and computer help. Bring in a device\, a tech problem\, or a question and we will assist you! Tech Help runs on a first come\, first served basis.
URL:https://sayrepl.org/event/friday-tech-help-2-2/2027-03-05/
LOCATION:Sayre Public Library\, 122 S Elmer Ave\, Sayre\, PA\, 18840\, United States
CATEGORIES:Events for All Ages
ATTACH;FMTTYPE=image/png:https://sayrepl.org/wp-content/uploads/2023/11/Laptop-Computer-Instagram-Post-5.png
END:VEVENT
BEGIN:VEVENT
DTSTART;TZID=America/New_York:20270312T100000
DTEND;TZID=America/New_York:20270312T230000
DTSTAMP:20260424T130641
CREATED:20240227T164158Z
LAST-MODIFIED:20251229T193456Z
UID:10001719-1804845600-1804892400@sayrepl.org
SUMMARY:Tech Help
DESCRIPTION:Let our staff assist you with tech issues and computer help. Bring in a device\, a tech problem\, or a question and we will assist you! Tech Help runs on a first come\, first served basis.
URL:https://sayrepl.org/event/friday-tech-help-2-2/2027-03-12/
LOCATION:Sayre Public Library\, 122 S Elmer Ave\, Sayre\, PA\, 18840\, United States
CATEGORIES:Events for All Ages
ATTACH;FMTTYPE=image/png:https://sayrepl.org/wp-content/uploads/2023/11/Laptop-Computer-Instagram-Post-5.png
END:VEVENT
BEGIN:VEVENT
DTSTART;TZID=America/New_York:20270319T100000
DTEND;TZID=America/New_York:20270319T230000
DTSTAMP:20260424T130641
CREATED:20240227T164158Z
LAST-MODIFIED:20251229T193456Z
UID:10001720-1805450400-1805497200@sayrepl.org
SUMMARY:Tech Help
DESCRIPTION:Let our staff assist you with tech issues and computer help. Bring in a device\, a tech problem\, or a question and we will assist you! Tech Help runs on a first come\, first served basis.
URL:https://sayrepl.org/event/friday-tech-help-2-2/2027-03-19/
LOCATION:Sayre Public Library\, 122 S Elmer Ave\, Sayre\, PA\, 18840\, United States
CATEGORIES:Events for All Ages
ATTACH;FMTTYPE=image/png:https://sayrepl.org/wp-content/uploads/2023/11/Laptop-Computer-Instagram-Post-5.png
END:VEVENT
BEGIN:VEVENT
DTSTART;TZID=America/New_York:20270326T100000
DTEND;TZID=America/New_York:20270326T230000
DTSTAMP:20260424T130641
CREATED:20240227T164158Z
LAST-MODIFIED:20251229T193456Z
UID:10001721-1806055200-1806102000@sayrepl.org
SUMMARY:Tech Help
DESCRIPTION:Let our staff assist you with tech issues and computer help. Bring in a device\, a tech problem\, or a question and we will assist you! Tech Help runs on a first come\, first served basis.
URL:https://sayrepl.org/event/friday-tech-help-2-2/2027-03-26/
LOCATION:Sayre Public Library\, 122 S Elmer Ave\, Sayre\, PA\, 18840\, United States
CATEGORIES:Events for All Ages
ATTACH;FMTTYPE=image/png:https://sayrepl.org/wp-content/uploads/2023/11/Laptop-Computer-Instagram-Post-5.png
END:VEVENT
BEGIN:VEVENT
DTSTART;TZID=America/New_York:20270402T100000
DTEND;TZID=America/New_York:20270402T230000
DTSTAMP:20260424T130641
CREATED:20240227T164158Z
LAST-MODIFIED:20251229T193456Z
UID:10001722-1806660000-1806706800@sayrepl.org
SUMMARY:Tech Help
DESCRIPTION:Let our staff assist you with tech issues and computer help. Bring in a device\, a tech problem\, or a question and we will assist you! Tech Help runs on a first come\, first served basis.
URL:https://sayrepl.org/event/friday-tech-help-2-2/2027-04-02/
LOCATION:Sayre Public Library\, 122 S Elmer Ave\, Sayre\, PA\, 18840\, United States
CATEGORIES:Events for All Ages
ATTACH;FMTTYPE=image/png:https://sayrepl.org/wp-content/uploads/2023/11/Laptop-Computer-Instagram-Post-5.png
END:VEVENT
BEGIN:VEVENT
DTSTART;TZID=America/New_York:20270409T100000
DTEND;TZID=America/New_York:20270409T230000
DTSTAMP:20260424T130641
CREATED:20240227T164158Z
LAST-MODIFIED:20251229T193456Z
UID:10001723-1807264800-1807311600@sayrepl.org
SUMMARY:Tech Help
DESCRIPTION:Let our staff assist you with tech issues and computer help. Bring in a device\, a tech problem\, or a question and we will assist you! Tech Help runs on a first come\, first served basis.
URL:https://sayrepl.org/event/friday-tech-help-2-2/2027-04-09/
LOCATION:Sayre Public Library\, 122 S Elmer Ave\, Sayre\, PA\, 18840\, United States
CATEGORIES:Events for All Ages
ATTACH;FMTTYPE=image/png:https://sayrepl.org/wp-content/uploads/2023/11/Laptop-Computer-Instagram-Post-5.png
END:VEVENT
END:VCALENDAR