BEGIN:VCALENDAR
VERSION:2.0
PRODID:-//Sayre Public Library - ECPv6.15.16//NONSGML v1.0//EN
CALSCALE:GREGORIAN
METHOD:PUBLISH
X-WR-CALNAME:Sayre Public Library
X-ORIGINAL-URL:https://sayrepl.org
X-WR-CALDESC:Events for Sayre Public Library
REFRESH-INTERVAL;VALUE=DURATION:PT1H
X-Robots-Tag:noindex
X-PUBLISHED-TTL:PT1H
BEGIN:VTIMEZONE
TZID:America/New_York
BEGIN:DAYLIGHT
TZOFFSETFROM:-0500
TZOFFSETTO:-0400
TZNAME:EDT
DTSTART:20250309T070000
END:DAYLIGHT
BEGIN:STANDARD
TZOFFSETFROM:-0400
TZOFFSETTO:-0500
TZNAME:EST
DTSTART:20251102T060000
END:STANDARD
BEGIN:DAYLIGHT
TZOFFSETFROM:-0500
TZOFFSETTO:-0400
TZNAME:EDT
DTSTART:20260308T070000
END:DAYLIGHT
BEGIN:STANDARD
TZOFFSETFROM:-0400
TZOFFSETTO:-0500
TZNAME:EST
DTSTART:20261101T060000
END:STANDARD
BEGIN:DAYLIGHT
TZOFFSETFROM:-0500
TZOFFSETTO:-0400
TZNAME:EDT
DTSTART:20270314T070000
END:DAYLIGHT
BEGIN:STANDARD
TZOFFSETFROM:-0400
TZOFFSETTO:-0500
TZNAME:EST
DTSTART:20271107T060000
END:STANDARD
END:VTIMEZONE
BEGIN:VEVENT
DTSTART;TZID=America/New_York:20260128T103000
DTEND;TZID=America/New_York:20260128T113000
DTSTAMP:20260425T101258
CREATED:20251226T183714Z
LAST-MODIFIED:20251226T183714Z
UID:10005061-1769596200-1769599800@sayrepl.org
SUMMARY:Move & Groove
DESCRIPTION:Join us on Wednesday mornings for our Winter Move & Groove! While these sessions will be more informal than our traditional Story Times\, there will still be plenty of opportunities for signing\, dancing\, playing\, learning\, and stories!
URL:https://sayrepl.org/event/move-groove/2026-01-28/
LOCATION:Sayre Public Library\, 122 S Elmer Ave\, Sayre\, PA\, 18840\, United States
END:VEVENT
BEGIN:VEVENT
DTSTART;TZID=America/New_York:20260126T100000
DTEND;TZID=America/New_York:20260126T110000
DTSTAMP:20260425T101258
CREATED:20251201T181932Z
LAST-MODIFIED:20260112T192315Z
UID:10004765-1769421600-1769425200@sayrepl.org
SUMMARY:Chair Yoga w/ Beth Herbst
DESCRIPTION:We are so excited to be offering Chair Yoga with Beth Herbst again at Sayre Public Library!  Chair Yoga classes will be offered on Monday mornings\, from 10:00-11:00 a.m. from January 5 through February 2. Our last class will be held on Friday\, February 6\, at 10:00 a.m.Yoga Instructor\, Beth Herbst\, M.Ed\, E – RYT 200 and ACE Certified Personal Trainer\, will beleading the classes. Beth has been teaching yoga for 14 years at Athletico/ Pivot Performance in Athens\, PA.Classes will focus on learning and practicing basic yoga movements\, breathing techniques\, and relaxation techniques. Designed for modified yoga postures that involve sitting\, standing and using a chair as a prop. Speak with your physician before beginning yoga.Registration will be capped at 15 participants per class. For more information or to register\, please calls us at 570-888-2256\, email us at sayre.library@gmail.com\, or stop by the library.
URL:https://sayrepl.org/event/chair-yoga-w-beth-herbst/2026-01-26/
LOCATION:Sayre Public Library\, 122 S Elmer Ave\, Sayre\, PA\, 18840\, United States
ATTACH;FMTTYPE=image/png:https://sayrepl.org/wp-content/uploads/2025/12/Chair-Yoga-Flyer-1.png
END:VEVENT
BEGIN:VEVENT
DTSTART;TZID=America/New_York:20260125T150000
DTEND;TZID=America/New_York:20260125T163000
DTSTAMP:20260425T101258
CREATED:20251218T152547Z
LAST-MODIFIED:20251218T152547Z
UID:10004779-1769353200-1769358600@sayrepl.org
SUMMARY:Teen Reading Lounge
DESCRIPTION:Area youth ages 12-18 are invited to join in to speak up and make an impact on their lives and their community through reading\, discussion\, and participation in the humanities. We are now a Youth Led Humanities site\, which means youth are supported as they take the lead in deciding on programming and activities for the group.
URL:https://sayrepl.org/event/teen-reading-lounge-7/
LOCATION:Sayre Public Library\, 122 S Elmer Ave\, Sayre\, PA\, 18840\, United States
END:VEVENT
BEGIN:VEVENT
DTSTART;TZID=America/New_York:20260124T130000
DTEND;TZID=America/New_York:20260124T140000
DTSTAMP:20260425T101258
CREATED:20251219T165617Z
LAST-MODIFIED:20251219T165617Z
UID:10005051-1769259600-1769263200@sayrepl.org
SUMMARY:Custom Tea Blend Workshop
DESCRIPTION: Looking for a way to warm up this January? Come to our Custom Tea Blend Workshop! We’ll discuss the properties of different teas\, experiment with our own blends\, and sample our creations. All materials will be provided.  \nRegistration is capped at 10 participants. To register\, call us at 570-888-2256\, email Stacey at smooney@sayrepl.org\, or stop by the library!
URL:https://sayrepl.org/event/custom-tea-blend-workshop/
LOCATION:Sayre Public Library\, 122 S Elmer Ave\, Sayre\, PA\, 18840\, United States
ATTACH;FMTTYPE=image/png:https://sayrepl.org/wp-content/uploads/2025/12/Custom-Tea-Blend.png
END:VEVENT
END:VCALENDAR