BEGIN:VCALENDAR
VERSION:2.0
PRODID:-//Sayre Public Library - ECPv6.15.16//NONSGML v1.0//EN
CALSCALE:GREGORIAN
METHOD:PUBLISH
X-WR-CALNAME:Sayre Public Library
X-ORIGINAL-URL:https://sayrepl.org
X-WR-CALDESC:Events for Sayre Public Library
REFRESH-INTERVAL;VALUE=DURATION:PT1H
X-Robots-Tag:noindex
X-PUBLISHED-TTL:PT1H
BEGIN:VTIMEZONE
TZID:America/New_York
BEGIN:DAYLIGHT
TZOFFSETFROM:-0500
TZOFFSETTO:-0400
TZNAME:EDT
DTSTART:20280312T070000
END:DAYLIGHT
BEGIN:STANDARD
TZOFFSETFROM:-0400
TZOFFSETTO:-0500
TZNAME:EST
DTSTART:20281105T060000
END:STANDARD
BEGIN:DAYLIGHT
TZOFFSETFROM:-0500
TZOFFSETTO:-0400
TZNAME:EDT
DTSTART:20290311T070000
END:DAYLIGHT
BEGIN:STANDARD
TZOFFSETFROM:-0400
TZOFFSETTO:-0500
TZNAME:EST
DTSTART:20291104T060000
END:STANDARD
BEGIN:DAYLIGHT
TZOFFSETFROM:-0500
TZOFFSETTO:-0400
TZNAME:EDT
DTSTART:20300310T070000
END:DAYLIGHT
BEGIN:STANDARD
TZOFFSETFROM:-0400
TZOFFSETTO:-0500
TZNAME:EST
DTSTART:20301103T060000
END:STANDARD
END:VTIMEZONE
BEGIN:VEVENT
DTSTART;TZID=America/New_York:20290125T110000
DTEND;TZID=America/New_York:20290125T120000
DTSTAMP:20260422T114125
CREATED:20251218T154835Z
LAST-MODIFIED:20251218T154835Z
UID:10004951-1864033200-1864036800@sayrepl.org
SUMMARY:Next Chapter Book Club
DESCRIPTION:The Next Chapter Book Club is our book club for adults with developmental disabilities in partnership with the Bradford Wyoming County Literacy Program. Join us each Thursday morning at 11:00 a.m. as we read\, socialize\, and explore the world through books. All are welcome regardless of reading level. \nFor any questions\, feel free to call us at 570-888-2256\, email Stacey at smooney@sayrepl.org\, or stop by the Library. Registration forms for the club can also be found at the Library. We can’t wait to read with you!
URL:https://sayrepl.org/event/next-chapter-book-club-2/2029-01-25/
LOCATION:Sayre Public Library\, 122 S Elmer Ave\, Sayre\, PA\, 18840\, United States
ATTACH;FMTTYPE=image/png:https://sayrepl.org/wp-content/uploads/2025/12/Copy-of-Next-Chapter-Book-Club-Flyers.png
END:VEVENT
BEGIN:VEVENT
DTSTART;TZID=America/New_York:20290126T100000
DTEND;TZID=America/New_York:20290126T230000
DTSTAMP:20260422T114125
CREATED:20240227T164158Z
LAST-MODIFIED:20251229T193456Z
UID:10001817-1864116000-1864162800@sayrepl.org
SUMMARY:Tech Help
DESCRIPTION:Let our staff assist you with tech issues and computer help. Bring in a device\, a tech problem\, or a question and we will assist you! Tech Help runs on a first come\, first served basis.
URL:https://sayrepl.org/event/friday-tech-help-2-2/2029-01-26/
LOCATION:Sayre Public Library\, 122 S Elmer Ave\, Sayre\, PA\, 18840\, United States
CATEGORIES:Events for All Ages
ATTACH;FMTTYPE=image/png:https://sayrepl.org/wp-content/uploads/2023/11/Laptop-Computer-Instagram-Post-5.png
END:VEVENT
BEGIN:VEVENT
DTSTART;TZID=America/New_York:20290131T103000
DTEND;TZID=America/New_York:20290131T113000
DTSTAMP:20260422T114125
CREATED:20240926T152959Z
LAST-MODIFIED:20240926T154612Z
UID:10003695-1864549800-1864553400@sayrepl.org
SUMMARY:Children's Story Time
DESCRIPTION:  \nJoin us for stories\, songs\, and fun every Wednesday morning at our Children’s Story Time! Our youth services librarian will lead children through a series of stories\, activities\, crafts\, and more in an effort to help build critical early literacy and social skills. No registration is required.
URL:https://sayrepl.org/event/childrens-story-time/2029-01-31/
LOCATION:Sayre Public Library\, 122 S Elmer Ave\, Sayre\, PA\, 18840\, United States
ATTACH;FMTTYPE=image/png:https://sayrepl.org/wp-content/uploads/2024/09/Childrens-Story-Time-Flyer.png
END:VEVENT
BEGIN:VEVENT
DTSTART;TZID=America/New_York:20290201T110000
DTEND;TZID=America/New_York:20290201T120000
DTSTAMP:20260422T114125
CREATED:20251218T154835Z
LAST-MODIFIED:20251218T154835Z
UID:10004952-1864638000-1864641600@sayrepl.org
SUMMARY:Next Chapter Book Club
DESCRIPTION:The Next Chapter Book Club is our book club for adults with developmental disabilities in partnership with the Bradford Wyoming County Literacy Program. Join us each Thursday morning at 11:00 a.m. as we read\, socialize\, and explore the world through books. All are welcome regardless of reading level. \nFor any questions\, feel free to call us at 570-888-2256\, email Stacey at smooney@sayrepl.org\, or stop by the Library. Registration forms for the club can also be found at the Library. We can’t wait to read with you!
URL:https://sayrepl.org/event/next-chapter-book-club-2/2029-02-01/
LOCATION:Sayre Public Library\, 122 S Elmer Ave\, Sayre\, PA\, 18840\, United States
ATTACH;FMTTYPE=image/png:https://sayrepl.org/wp-content/uploads/2025/12/Copy-of-Next-Chapter-Book-Club-Flyers.png
END:VEVENT
BEGIN:VEVENT
DTSTART;TZID=America/New_York:20290202T100000
DTEND;TZID=America/New_York:20290202T230000
DTSTAMP:20260422T114125
CREATED:20240227T164158Z
LAST-MODIFIED:20251229T193456Z
UID:10001818-1864720800-1864767600@sayrepl.org
SUMMARY:Tech Help
DESCRIPTION:Let our staff assist you with tech issues and computer help. Bring in a device\, a tech problem\, or a question and we will assist you! Tech Help runs on a first come\, first served basis.
URL:https://sayrepl.org/event/friday-tech-help-2-2/2029-02-02/
LOCATION:Sayre Public Library\, 122 S Elmer Ave\, Sayre\, PA\, 18840\, United States
CATEGORIES:Events for All Ages
ATTACH;FMTTYPE=image/png:https://sayrepl.org/wp-content/uploads/2023/11/Laptop-Computer-Instagram-Post-5.png
END:VEVENT
BEGIN:VEVENT
DTSTART;TZID=America/New_York:20290207T100000
DTEND;TZID=America/New_York:20290207T110000
DTSTAMP:20260422T114125
CREATED:20240926T163812Z
LAST-MODIFIED:20240926T163812Z
UID:10003785-1865152800-1865156400@sayrepl.org
SUMMARY:Advanced Tech Time with Tim Clines
DESCRIPTION:Bring your laptop or device and Tim Clines will be available to answer questions you may have about apps\, accounts\, operating systems\, or any other tech related situation that has you stumped! Tim joins us every first Wednesday of the month at 10:00 a.m. to help support additional tech needs you may have.
URL:https://sayrepl.org/event/advanced-tech-time-with-tim-clines-3/2029-02-07/
LOCATION:Sayre Public Library\, 122 S Elmer Ave\, Sayre\, PA\, 18840\, United States
ATTACH;FMTTYPE=image/png:https://sayrepl.org/wp-content/uploads/2024/01/Soft-Sage-Computer-Tips-Cover-Pinterest-Pin.png
END:VEVENT
BEGIN:VEVENT
DTSTART;TZID=America/New_York:20290207T103000
DTEND;TZID=America/New_York:20290207T113000
DTSTAMP:20260422T114125
CREATED:20240926T152959Z
LAST-MODIFIED:20240926T154612Z
UID:10003696-1865154600-1865158200@sayrepl.org
SUMMARY:Children's Story Time
DESCRIPTION:  \nJoin us for stories\, songs\, and fun every Wednesday morning at our Children’s Story Time! Our youth services librarian will lead children through a series of stories\, activities\, crafts\, and more in an effort to help build critical early literacy and social skills. No registration is required.
URL:https://sayrepl.org/event/childrens-story-time/2029-02-07/
LOCATION:Sayre Public Library\, 122 S Elmer Ave\, Sayre\, PA\, 18840\, United States
ATTACH;FMTTYPE=image/png:https://sayrepl.org/wp-content/uploads/2024/09/Childrens-Story-Time-Flyer.png
END:VEVENT
BEGIN:VEVENT
DTSTART;TZID=America/New_York:20290208T110000
DTEND;TZID=America/New_York:20290208T120000
DTSTAMP:20260422T114125
CREATED:20251218T154835Z
LAST-MODIFIED:20251218T154835Z
UID:10004953-1865242800-1865246400@sayrepl.org
SUMMARY:Next Chapter Book Club
DESCRIPTION:The Next Chapter Book Club is our book club for adults with developmental disabilities in partnership with the Bradford Wyoming County Literacy Program. Join us each Thursday morning at 11:00 a.m. as we read\, socialize\, and explore the world through books. All are welcome regardless of reading level. \nFor any questions\, feel free to call us at 570-888-2256\, email Stacey at smooney@sayrepl.org\, or stop by the Library. Registration forms for the club can also be found at the Library. We can’t wait to read with you!
URL:https://sayrepl.org/event/next-chapter-book-club-2/2029-02-08/
LOCATION:Sayre Public Library\, 122 S Elmer Ave\, Sayre\, PA\, 18840\, United States
ATTACH;FMTTYPE=image/png:https://sayrepl.org/wp-content/uploads/2025/12/Copy-of-Next-Chapter-Book-Club-Flyers.png
END:VEVENT
BEGIN:VEVENT
DTSTART;TZID=America/New_York:20290209T100000
DTEND;TZID=America/New_York:20290209T230000
DTSTAMP:20260422T114125
CREATED:20240227T164158Z
LAST-MODIFIED:20251229T193456Z
UID:10001819-1865325600-1865372400@sayrepl.org
SUMMARY:Tech Help
DESCRIPTION:Let our staff assist you with tech issues and computer help. Bring in a device\, a tech problem\, or a question and we will assist you! Tech Help runs on a first come\, first served basis.
URL:https://sayrepl.org/event/friday-tech-help-2-2/2029-02-09/
LOCATION:Sayre Public Library\, 122 S Elmer Ave\, Sayre\, PA\, 18840\, United States
CATEGORIES:Events for All Ages
ATTACH;FMTTYPE=image/png:https://sayrepl.org/wp-content/uploads/2023/11/Laptop-Computer-Instagram-Post-5.png
END:VEVENT
BEGIN:VEVENT
DTSTART;TZID=America/New_York:20290212T170000
DTEND;TZID=America/New_York:20290212T180000
DTSTAMP:20260422T114125
CREATED:20240927T152902Z
LAST-MODIFIED:20240927T152902Z
UID:10003850-1865610000-1865613600@sayrepl.org
SUMMARY:The Ink Drinkers Book Club
DESCRIPTION:
URL:https://sayrepl.org/event/the-ink-drinkers-book-club-2/2029-02-12/
LOCATION:Sayre Public Library\, 122 S Elmer Ave\, Sayre\, PA\, 18840\, United States
END:VEVENT
BEGIN:VEVENT
DTSTART;TZID=America/New_York:20290214T103000
DTEND;TZID=America/New_York:20290214T113000
DTSTAMP:20260422T114125
CREATED:20240926T152959Z
LAST-MODIFIED:20240926T154612Z
UID:10003697-1865759400-1865763000@sayrepl.org
SUMMARY:Children's Story Time
DESCRIPTION:  \nJoin us for stories\, songs\, and fun every Wednesday morning at our Children’s Story Time! Our youth services librarian will lead children through a series of stories\, activities\, crafts\, and more in an effort to help build critical early literacy and social skills. No registration is required.
URL:https://sayrepl.org/event/childrens-story-time/2029-02-14/
LOCATION:Sayre Public Library\, 122 S Elmer Ave\, Sayre\, PA\, 18840\, United States
ATTACH;FMTTYPE=image/png:https://sayrepl.org/wp-content/uploads/2024/09/Childrens-Story-Time-Flyer.png
END:VEVENT
BEGIN:VEVENT
DTSTART;TZID=America/New_York:20290215T110000
DTEND;TZID=America/New_York:20290215T120000
DTSTAMP:20260422T114125
CREATED:20251218T154835Z
LAST-MODIFIED:20251218T154835Z
UID:10004954-1865847600-1865851200@sayrepl.org
SUMMARY:Next Chapter Book Club
DESCRIPTION:The Next Chapter Book Club is our book club for adults with developmental disabilities in partnership with the Bradford Wyoming County Literacy Program. Join us each Thursday morning at 11:00 a.m. as we read\, socialize\, and explore the world through books. All are welcome regardless of reading level. \nFor any questions\, feel free to call us at 570-888-2256\, email Stacey at smooney@sayrepl.org\, or stop by the Library. Registration forms for the club can also be found at the Library. We can’t wait to read with you!
URL:https://sayrepl.org/event/next-chapter-book-club-2/2029-02-15/
LOCATION:Sayre Public Library\, 122 S Elmer Ave\, Sayre\, PA\, 18840\, United States
ATTACH;FMTTYPE=image/png:https://sayrepl.org/wp-content/uploads/2025/12/Copy-of-Next-Chapter-Book-Club-Flyers.png
END:VEVENT
BEGIN:VEVENT
DTSTART;TZID=America/New_York:20290216T100000
DTEND;TZID=America/New_York:20290216T230000
DTSTAMP:20260422T114125
CREATED:20240227T164158Z
LAST-MODIFIED:20251229T193456Z
UID:10001820-1865930400-1865977200@sayrepl.org
SUMMARY:Tech Help
DESCRIPTION:Let our staff assist you with tech issues and computer help. Bring in a device\, a tech problem\, or a question and we will assist you! Tech Help runs on a first come\, first served basis.
URL:https://sayrepl.org/event/friday-tech-help-2-2/2029-02-16/
LOCATION:Sayre Public Library\, 122 S Elmer Ave\, Sayre\, PA\, 18840\, United States
CATEGORIES:Events for All Ages
ATTACH;FMTTYPE=image/png:https://sayrepl.org/wp-content/uploads/2023/11/Laptop-Computer-Instagram-Post-5.png
END:VEVENT
BEGIN:VEVENT
DTSTART;TZID=America/New_York:20290221T103000
DTEND;TZID=America/New_York:20290221T113000
DTSTAMP:20260422T114125
CREATED:20240926T152959Z
LAST-MODIFIED:20240926T154612Z
UID:10003698-1866364200-1866367800@sayrepl.org
SUMMARY:Children's Story Time
DESCRIPTION:  \nJoin us for stories\, songs\, and fun every Wednesday morning at our Children’s Story Time! Our youth services librarian will lead children through a series of stories\, activities\, crafts\, and more in an effort to help build critical early literacy and social skills. No registration is required.
URL:https://sayrepl.org/event/childrens-story-time/2029-02-21/
LOCATION:Sayre Public Library\, 122 S Elmer Ave\, Sayre\, PA\, 18840\, United States
ATTACH;FMTTYPE=image/png:https://sayrepl.org/wp-content/uploads/2024/09/Childrens-Story-Time-Flyer.png
END:VEVENT
BEGIN:VEVENT
DTSTART;TZID=America/New_York:20290222T110000
DTEND;TZID=America/New_York:20290222T120000
DTSTAMP:20260422T114125
CREATED:20251218T154835Z
LAST-MODIFIED:20251218T154835Z
UID:10004955-1866452400-1866456000@sayrepl.org
SUMMARY:Next Chapter Book Club
DESCRIPTION:The Next Chapter Book Club is our book club for adults with developmental disabilities in partnership with the Bradford Wyoming County Literacy Program. Join us each Thursday morning at 11:00 a.m. as we read\, socialize\, and explore the world through books. All are welcome regardless of reading level. \nFor any questions\, feel free to call us at 570-888-2256\, email Stacey at smooney@sayrepl.org\, or stop by the Library. Registration forms for the club can also be found at the Library. We can’t wait to read with you!
URL:https://sayrepl.org/event/next-chapter-book-club-2/2029-02-22/
LOCATION:Sayre Public Library\, 122 S Elmer Ave\, Sayre\, PA\, 18840\, United States
ATTACH;FMTTYPE=image/png:https://sayrepl.org/wp-content/uploads/2025/12/Copy-of-Next-Chapter-Book-Club-Flyers.png
END:VEVENT
BEGIN:VEVENT
DTSTART;TZID=America/New_York:20290223T100000
DTEND;TZID=America/New_York:20290223T230000
DTSTAMP:20260422T114125
CREATED:20240227T164158Z
LAST-MODIFIED:20251229T193456Z
UID:10001821-1866535200-1866582000@sayrepl.org
SUMMARY:Tech Help
DESCRIPTION:Let our staff assist you with tech issues and computer help. Bring in a device\, a tech problem\, or a question and we will assist you! Tech Help runs on a first come\, first served basis.
URL:https://sayrepl.org/event/friday-tech-help-2-2/2029-02-23/
LOCATION:Sayre Public Library\, 122 S Elmer Ave\, Sayre\, PA\, 18840\, United States
CATEGORIES:Events for All Ages
ATTACH;FMTTYPE=image/png:https://sayrepl.org/wp-content/uploads/2023/11/Laptop-Computer-Instagram-Post-5.png
END:VEVENT
BEGIN:VEVENT
DTSTART;TZID=America/New_York:20290228T103000
DTEND;TZID=America/New_York:20290228T113000
DTSTAMP:20260422T114125
CREATED:20240926T152959Z
LAST-MODIFIED:20240926T154612Z
UID:10003699-1866969000-1866972600@sayrepl.org
SUMMARY:Children's Story Time
DESCRIPTION:  \nJoin us for stories\, songs\, and fun every Wednesday morning at our Children’s Story Time! Our youth services librarian will lead children through a series of stories\, activities\, crafts\, and more in an effort to help build critical early literacy and social skills. No registration is required.
URL:https://sayrepl.org/event/childrens-story-time/2029-02-28/
LOCATION:Sayre Public Library\, 122 S Elmer Ave\, Sayre\, PA\, 18840\, United States
ATTACH;FMTTYPE=image/png:https://sayrepl.org/wp-content/uploads/2024/09/Childrens-Story-Time-Flyer.png
END:VEVENT
BEGIN:VEVENT
DTSTART;TZID=America/New_York:20290301T110000
DTEND;TZID=America/New_York:20290301T120000
DTSTAMP:20260422T114125
CREATED:20251218T154835Z
LAST-MODIFIED:20251218T154835Z
UID:10004956-1867057200-1867060800@sayrepl.org
SUMMARY:Next Chapter Book Club
DESCRIPTION:The Next Chapter Book Club is our book club for adults with developmental disabilities in partnership with the Bradford Wyoming County Literacy Program. Join us each Thursday morning at 11:00 a.m. as we read\, socialize\, and explore the world through books. All are welcome regardless of reading level. \nFor any questions\, feel free to call us at 570-888-2256\, email Stacey at smooney@sayrepl.org\, or stop by the Library. Registration forms for the club can also be found at the Library. We can’t wait to read with you!
URL:https://sayrepl.org/event/next-chapter-book-club-2/2029-03-01/
LOCATION:Sayre Public Library\, 122 S Elmer Ave\, Sayre\, PA\, 18840\, United States
ATTACH;FMTTYPE=image/png:https://sayrepl.org/wp-content/uploads/2025/12/Copy-of-Next-Chapter-Book-Club-Flyers.png
END:VEVENT
BEGIN:VEVENT
DTSTART;TZID=America/New_York:20290302T100000
DTEND;TZID=America/New_York:20290302T230000
DTSTAMP:20260422T114125
CREATED:20240227T164158Z
LAST-MODIFIED:20251229T193456Z
UID:10002981-1867140000-1867186800@sayrepl.org
SUMMARY:Tech Help
DESCRIPTION:Let our staff assist you with tech issues and computer help. Bring in a device\, a tech problem\, or a question and we will assist you! Tech Help runs on a first come\, first served basis.
URL:https://sayrepl.org/event/friday-tech-help-2-2/2029-03-02/
LOCATION:Sayre Public Library\, 122 S Elmer Ave\, Sayre\, PA\, 18840\, United States
CATEGORIES:Events for All Ages
ATTACH;FMTTYPE=image/png:https://sayrepl.org/wp-content/uploads/2023/11/Laptop-Computer-Instagram-Post-5.png
END:VEVENT
BEGIN:VEVENT
DTSTART;TZID=America/New_York:20290307T100000
DTEND;TZID=America/New_York:20290307T110000
DTSTAMP:20260422T114125
CREATED:20240926T163812Z
LAST-MODIFIED:20240926T163812Z
UID:10003786-1867572000-1867575600@sayrepl.org
SUMMARY:Advanced Tech Time with Tim Clines
DESCRIPTION:Bring your laptop or device and Tim Clines will be available to answer questions you may have about apps\, accounts\, operating systems\, or any other tech related situation that has you stumped! Tim joins us every first Wednesday of the month at 10:00 a.m. to help support additional tech needs you may have.
URL:https://sayrepl.org/event/advanced-tech-time-with-tim-clines-3/2029-03-07/
LOCATION:Sayre Public Library\, 122 S Elmer Ave\, Sayre\, PA\, 18840\, United States
ATTACH;FMTTYPE=image/png:https://sayrepl.org/wp-content/uploads/2024/01/Soft-Sage-Computer-Tips-Cover-Pinterest-Pin.png
END:VEVENT
BEGIN:VEVENT
DTSTART;TZID=America/New_York:20290307T103000
DTEND;TZID=America/New_York:20290307T113000
DTSTAMP:20260422T114125
CREATED:20240926T152959Z
LAST-MODIFIED:20240926T154612Z
UID:10003700-1867573800-1867577400@sayrepl.org
SUMMARY:Children's Story Time
DESCRIPTION:  \nJoin us for stories\, songs\, and fun every Wednesday morning at our Children’s Story Time! Our youth services librarian will lead children through a series of stories\, activities\, crafts\, and more in an effort to help build critical early literacy and social skills. No registration is required.
URL:https://sayrepl.org/event/childrens-story-time/2029-03-07/
LOCATION:Sayre Public Library\, 122 S Elmer Ave\, Sayre\, PA\, 18840\, United States
ATTACH;FMTTYPE=image/png:https://sayrepl.org/wp-content/uploads/2024/09/Childrens-Story-Time-Flyer.png
END:VEVENT
BEGIN:VEVENT
DTSTART;TZID=America/New_York:20290308T110000
DTEND;TZID=America/New_York:20290308T120000
DTSTAMP:20260422T114125
CREATED:20251218T154835Z
LAST-MODIFIED:20251218T154835Z
UID:10004957-1867662000-1867665600@sayrepl.org
SUMMARY:Next Chapter Book Club
DESCRIPTION:The Next Chapter Book Club is our book club for adults with developmental disabilities in partnership with the Bradford Wyoming County Literacy Program. Join us each Thursday morning at 11:00 a.m. as we read\, socialize\, and explore the world through books. All are welcome regardless of reading level. \nFor any questions\, feel free to call us at 570-888-2256\, email Stacey at smooney@sayrepl.org\, or stop by the Library. Registration forms for the club can also be found at the Library. We can’t wait to read with you!
URL:https://sayrepl.org/event/next-chapter-book-club-2/2029-03-08/
LOCATION:Sayre Public Library\, 122 S Elmer Ave\, Sayre\, PA\, 18840\, United States
ATTACH;FMTTYPE=image/png:https://sayrepl.org/wp-content/uploads/2025/12/Copy-of-Next-Chapter-Book-Club-Flyers.png
END:VEVENT
BEGIN:VEVENT
DTSTART;TZID=America/New_York:20290309T100000
DTEND;TZID=America/New_York:20290309T230000
DTSTAMP:20260422T114125
CREATED:20240227T164158Z
LAST-MODIFIED:20251229T193456Z
UID:10002982-1867744800-1867791600@sayrepl.org
SUMMARY:Tech Help
DESCRIPTION:Let our staff assist you with tech issues and computer help. Bring in a device\, a tech problem\, or a question and we will assist you! Tech Help runs on a first come\, first served basis.
URL:https://sayrepl.org/event/friday-tech-help-2-2/2029-03-09/
LOCATION:Sayre Public Library\, 122 S Elmer Ave\, Sayre\, PA\, 18840\, United States
CATEGORIES:Events for All Ages
ATTACH;FMTTYPE=image/png:https://sayrepl.org/wp-content/uploads/2023/11/Laptop-Computer-Instagram-Post-5.png
END:VEVENT
BEGIN:VEVENT
DTSTART;TZID=America/New_York:20290312T170000
DTEND;TZID=America/New_York:20290312T180000
DTSTAMP:20260422T114125
CREATED:20240927T152902Z
LAST-MODIFIED:20240927T152902Z
UID:10003851-1868029200-1868032800@sayrepl.org
SUMMARY:The Ink Drinkers Book Club
DESCRIPTION:
URL:https://sayrepl.org/event/the-ink-drinkers-book-club-2/2029-03-12/
LOCATION:Sayre Public Library\, 122 S Elmer Ave\, Sayre\, PA\, 18840\, United States
END:VEVENT
BEGIN:VEVENT
DTSTART;TZID=America/New_York:20290314T103000
DTEND;TZID=America/New_York:20290314T113000
DTSTAMP:20260422T114125
CREATED:20240926T152959Z
LAST-MODIFIED:20240926T154612Z
UID:10003701-1868178600-1868182200@sayrepl.org
SUMMARY:Children's Story Time
DESCRIPTION:  \nJoin us for stories\, songs\, and fun every Wednesday morning at our Children’s Story Time! Our youth services librarian will lead children through a series of stories\, activities\, crafts\, and more in an effort to help build critical early literacy and social skills. No registration is required.
URL:https://sayrepl.org/event/childrens-story-time/2029-03-14/
LOCATION:Sayre Public Library\, 122 S Elmer Ave\, Sayre\, PA\, 18840\, United States
ATTACH;FMTTYPE=image/png:https://sayrepl.org/wp-content/uploads/2024/09/Childrens-Story-Time-Flyer.png
END:VEVENT
BEGIN:VEVENT
DTSTART;TZID=America/New_York:20290315T110000
DTEND;TZID=America/New_York:20290315T120000
DTSTAMP:20260422T114125
CREATED:20251218T154835Z
LAST-MODIFIED:20251218T154835Z
UID:10004958-1868266800-1868270400@sayrepl.org
SUMMARY:Next Chapter Book Club
DESCRIPTION:The Next Chapter Book Club is our book club for adults with developmental disabilities in partnership with the Bradford Wyoming County Literacy Program. Join us each Thursday morning at 11:00 a.m. as we read\, socialize\, and explore the world through books. All are welcome regardless of reading level. \nFor any questions\, feel free to call us at 570-888-2256\, email Stacey at smooney@sayrepl.org\, or stop by the Library. Registration forms for the club can also be found at the Library. We can’t wait to read with you!
URL:https://sayrepl.org/event/next-chapter-book-club-2/2029-03-15/
LOCATION:Sayre Public Library\, 122 S Elmer Ave\, Sayre\, PA\, 18840\, United States
ATTACH;FMTTYPE=image/png:https://sayrepl.org/wp-content/uploads/2025/12/Copy-of-Next-Chapter-Book-Club-Flyers.png
END:VEVENT
BEGIN:VEVENT
DTSTART;TZID=America/New_York:20290316T100000
DTEND;TZID=America/New_York:20290316T230000
DTSTAMP:20260422T114125
CREATED:20240227T164158Z
LAST-MODIFIED:20251229T193456Z
UID:10002983-1868349600-1868396400@sayrepl.org
SUMMARY:Tech Help
DESCRIPTION:Let our staff assist you with tech issues and computer help. Bring in a device\, a tech problem\, or a question and we will assist you! Tech Help runs on a first come\, first served basis.
URL:https://sayrepl.org/event/friday-tech-help-2-2/2029-03-16/
LOCATION:Sayre Public Library\, 122 S Elmer Ave\, Sayre\, PA\, 18840\, United States
CATEGORIES:Events for All Ages
ATTACH;FMTTYPE=image/png:https://sayrepl.org/wp-content/uploads/2023/11/Laptop-Computer-Instagram-Post-5.png
END:VEVENT
BEGIN:VEVENT
DTSTART;TZID=America/New_York:20290321T103000
DTEND;TZID=America/New_York:20290321T113000
DTSTAMP:20260422T114125
CREATED:20240926T152959Z
LAST-MODIFIED:20240926T154612Z
UID:10003702-1868783400-1868787000@sayrepl.org
SUMMARY:Children's Story Time
DESCRIPTION:  \nJoin us for stories\, songs\, and fun every Wednesday morning at our Children’s Story Time! Our youth services librarian will lead children through a series of stories\, activities\, crafts\, and more in an effort to help build critical early literacy and social skills. No registration is required.
URL:https://sayrepl.org/event/childrens-story-time/2029-03-21/
LOCATION:Sayre Public Library\, 122 S Elmer Ave\, Sayre\, PA\, 18840\, United States
ATTACH;FMTTYPE=image/png:https://sayrepl.org/wp-content/uploads/2024/09/Childrens-Story-Time-Flyer.png
END:VEVENT
BEGIN:VEVENT
DTSTART;TZID=America/New_York:20290322T110000
DTEND;TZID=America/New_York:20290322T120000
DTSTAMP:20260422T114125
CREATED:20251218T154835Z
LAST-MODIFIED:20251218T154835Z
UID:10004959-1868871600-1868875200@sayrepl.org
SUMMARY:Next Chapter Book Club
DESCRIPTION:The Next Chapter Book Club is our book club for adults with developmental disabilities in partnership with the Bradford Wyoming County Literacy Program. Join us each Thursday morning at 11:00 a.m. as we read\, socialize\, and explore the world through books. All are welcome regardless of reading level. \nFor any questions\, feel free to call us at 570-888-2256\, email Stacey at smooney@sayrepl.org\, or stop by the Library. Registration forms for the club can also be found at the Library. We can’t wait to read with you!
URL:https://sayrepl.org/event/next-chapter-book-club-2/2029-03-22/
LOCATION:Sayre Public Library\, 122 S Elmer Ave\, Sayre\, PA\, 18840\, United States
ATTACH;FMTTYPE=image/png:https://sayrepl.org/wp-content/uploads/2025/12/Copy-of-Next-Chapter-Book-Club-Flyers.png
END:VEVENT
BEGIN:VEVENT
DTSTART;TZID=America/New_York:20290323T100000
DTEND;TZID=America/New_York:20290323T230000
DTSTAMP:20260422T114125
CREATED:20240227T164158Z
LAST-MODIFIED:20251229T193456Z
UID:10002984-1868954400-1869001200@sayrepl.org
SUMMARY:Tech Help
DESCRIPTION:Let our staff assist you with tech issues and computer help. Bring in a device\, a tech problem\, or a question and we will assist you! Tech Help runs on a first come\, first served basis.
URL:https://sayrepl.org/event/friday-tech-help-2-2/2029-03-23/
LOCATION:Sayre Public Library\, 122 S Elmer Ave\, Sayre\, PA\, 18840\, United States
CATEGORIES:Events for All Ages
ATTACH;FMTTYPE=image/png:https://sayrepl.org/wp-content/uploads/2023/11/Laptop-Computer-Instagram-Post-5.png
END:VEVENT
END:VCALENDAR