BEGIN:VCALENDAR
VERSION:2.0
PRODID:-//Sayre Public Library - ECPv6.15.16//NONSGML v1.0//EN
CALSCALE:GREGORIAN
METHOD:PUBLISH
X-WR-CALNAME:Sayre Public Library
X-ORIGINAL-URL:https://sayrepl.org
X-WR-CALDESC:Events for Sayre Public Library
REFRESH-INTERVAL;VALUE=DURATION:PT1H
X-Robots-Tag:noindex
X-PUBLISHED-TTL:PT1H
BEGIN:VTIMEZONE
TZID:America/New_York
BEGIN:DAYLIGHT
TZOFFSETFROM:-0500
TZOFFSETTO:-0400
TZNAME:EDT
DTSTART:20280312T070000
END:DAYLIGHT
BEGIN:STANDARD
TZOFFSETFROM:-0400
TZOFFSETTO:-0500
TZNAME:EST
DTSTART:20281105T060000
END:STANDARD
BEGIN:DAYLIGHT
TZOFFSETFROM:-0500
TZOFFSETTO:-0400
TZNAME:EDT
DTSTART:20290311T070000
END:DAYLIGHT
BEGIN:STANDARD
TZOFFSETFROM:-0400
TZOFFSETTO:-0500
TZNAME:EST
DTSTART:20291104T060000
END:STANDARD
BEGIN:DAYLIGHT
TZOFFSETFROM:-0500
TZOFFSETTO:-0400
TZNAME:EDT
DTSTART:20300310T070000
END:DAYLIGHT
BEGIN:STANDARD
TZOFFSETFROM:-0400
TZOFFSETTO:-0500
TZNAME:EST
DTSTART:20301103T060000
END:STANDARD
END:VTIMEZONE
BEGIN:VEVENT
DTSTART;TZID=America/New_York:20290620T103000
DTEND;TZID=America/New_York:20290620T113000
DTSTAMP:20260424T154508
CREATED:20240926T152959Z
LAST-MODIFIED:20240926T154612Z
UID:10003715-1876645800-1876649400@sayrepl.org
SUMMARY:Children's Story Time
DESCRIPTION:  \nJoin us for stories\, songs\, and fun every Wednesday morning at our Children’s Story Time! Our youth services librarian will lead children through a series of stories\, activities\, crafts\, and more in an effort to help build critical early literacy and social skills. No registration is required.
URL:https://sayrepl.org/event/childrens-story-time/2029-06-20/
LOCATION:Sayre Public Library\, 122 S Elmer Ave\, Sayre\, PA\, 18840\, United States
ATTACH;FMTTYPE=image/png:https://sayrepl.org/wp-content/uploads/2024/09/Childrens-Story-Time-Flyer.png
END:VEVENT
BEGIN:VEVENT
DTSTART;TZID=America/New_York:20290621T110000
DTEND;TZID=America/New_York:20290621T120000
DTSTAMP:20260424T154508
CREATED:20251218T154835Z
LAST-MODIFIED:20251218T154835Z
UID:10004972-1876734000-1876737600@sayrepl.org
SUMMARY:Next Chapter Book Club
DESCRIPTION:The Next Chapter Book Club is our book club for adults with developmental disabilities in partnership with the Bradford Wyoming County Literacy Program. Join us each Thursday morning at 11:00 a.m. as we read\, socialize\, and explore the world through books. All are welcome regardless of reading level. \nFor any questions\, feel free to call us at 570-888-2256\, email Stacey at smooney@sayrepl.org\, or stop by the Library. Registration forms for the club can also be found at the Library. We can’t wait to read with you!
URL:https://sayrepl.org/event/next-chapter-book-club-2/2029-06-21/
LOCATION:Sayre Public Library\, 122 S Elmer Ave\, Sayre\, PA\, 18840\, United States
ATTACH;FMTTYPE=image/png:https://sayrepl.org/wp-content/uploads/2025/12/Copy-of-Next-Chapter-Book-Club-Flyers.png
END:VEVENT
BEGIN:VEVENT
DTSTART;TZID=America/New_York:20290622T100000
DTEND;TZID=America/New_York:20290622T230000
DTSTAMP:20260424T154508
CREATED:20240227T164158Z
LAST-MODIFIED:20251229T193456Z
UID:10003001-1876816800-1876863600@sayrepl.org
SUMMARY:Tech Help
DESCRIPTION:Let our staff assist you with tech issues and computer help. Bring in a device\, a tech problem\, or a question and we will assist you! Tech Help runs on a first come\, first served basis.
URL:https://sayrepl.org/event/friday-tech-help-2-2/2029-06-22/
LOCATION:Sayre Public Library\, 122 S Elmer Ave\, Sayre\, PA\, 18840\, United States
CATEGORIES:Events for All Ages
ATTACH;FMTTYPE=image/png:https://sayrepl.org/wp-content/uploads/2023/11/Laptop-Computer-Instagram-Post-5.png
END:VEVENT
BEGIN:VEVENT
DTSTART;TZID=America/New_York:20290627T103000
DTEND;TZID=America/New_York:20290627T113000
DTSTAMP:20260424T154508
CREATED:20240926T152959Z
LAST-MODIFIED:20240926T154612Z
UID:10003716-1877250600-1877254200@sayrepl.org
SUMMARY:Children's Story Time
DESCRIPTION:  \nJoin us for stories\, songs\, and fun every Wednesday morning at our Children’s Story Time! Our youth services librarian will lead children through a series of stories\, activities\, crafts\, and more in an effort to help build critical early literacy and social skills. No registration is required.
URL:https://sayrepl.org/event/childrens-story-time/2029-06-27/
LOCATION:Sayre Public Library\, 122 S Elmer Ave\, Sayre\, PA\, 18840\, United States
ATTACH;FMTTYPE=image/png:https://sayrepl.org/wp-content/uploads/2024/09/Childrens-Story-Time-Flyer.png
END:VEVENT
BEGIN:VEVENT
DTSTART;TZID=America/New_York:20290628T110000
DTEND;TZID=America/New_York:20290628T120000
DTSTAMP:20260424T154508
CREATED:20251218T154835Z
LAST-MODIFIED:20251218T154835Z
UID:10004973-1877338800-1877342400@sayrepl.org
SUMMARY:Next Chapter Book Club
DESCRIPTION:The Next Chapter Book Club is our book club for adults with developmental disabilities in partnership with the Bradford Wyoming County Literacy Program. Join us each Thursday morning at 11:00 a.m. as we read\, socialize\, and explore the world through books. All are welcome regardless of reading level. \nFor any questions\, feel free to call us at 570-888-2256\, email Stacey at smooney@sayrepl.org\, or stop by the Library. Registration forms for the club can also be found at the Library. We can’t wait to read with you!
URL:https://sayrepl.org/event/next-chapter-book-club-2/2029-06-28/
LOCATION:Sayre Public Library\, 122 S Elmer Ave\, Sayre\, PA\, 18840\, United States
ATTACH;FMTTYPE=image/png:https://sayrepl.org/wp-content/uploads/2025/12/Copy-of-Next-Chapter-Book-Club-Flyers.png
END:VEVENT
BEGIN:VEVENT
DTSTART;TZID=America/New_York:20290629T100000
DTEND;TZID=America/New_York:20290629T230000
DTSTAMP:20260424T154508
CREATED:20240227T164158Z
LAST-MODIFIED:20251229T193456Z
UID:10003025-1877421600-1877468400@sayrepl.org
SUMMARY:Tech Help
DESCRIPTION:Let our staff assist you with tech issues and computer help. Bring in a device\, a tech problem\, or a question and we will assist you! Tech Help runs on a first come\, first served basis.
URL:https://sayrepl.org/event/friday-tech-help-2-2/2029-06-29/
LOCATION:Sayre Public Library\, 122 S Elmer Ave\, Sayre\, PA\, 18840\, United States
CATEGORIES:Events for All Ages
ATTACH;FMTTYPE=image/png:https://sayrepl.org/wp-content/uploads/2023/11/Laptop-Computer-Instagram-Post-5.png
END:VEVENT
BEGIN:VEVENT
DTSTART;TZID=America/New_York:20290704T100000
DTEND;TZID=America/New_York:20290704T110000
DTSTAMP:20260424T154508
CREATED:20240926T163812Z
LAST-MODIFIED:20240926T163812Z
UID:10003790-1877853600-1877857200@sayrepl.org
SUMMARY:Advanced Tech Time with Tim Clines
DESCRIPTION:Bring your laptop or device and Tim Clines will be available to answer questions you may have about apps\, accounts\, operating systems\, or any other tech related situation that has you stumped! Tim joins us every first Wednesday of the month at 10:00 a.m. to help support additional tech needs you may have.
URL:https://sayrepl.org/event/advanced-tech-time-with-tim-clines-3/2029-07-04/
LOCATION:Sayre Public Library\, 122 S Elmer Ave\, Sayre\, PA\, 18840\, United States
ATTACH;FMTTYPE=image/png:https://sayrepl.org/wp-content/uploads/2024/01/Soft-Sage-Computer-Tips-Cover-Pinterest-Pin.png
END:VEVENT
BEGIN:VEVENT
DTSTART;TZID=America/New_York:20290704T103000
DTEND;TZID=America/New_York:20290704T113000
DTSTAMP:20260424T154508
CREATED:20240926T152959Z
LAST-MODIFIED:20240926T154612Z
UID:10003717-1877855400-1877859000@sayrepl.org
SUMMARY:Children's Story Time
DESCRIPTION:  \nJoin us for stories\, songs\, and fun every Wednesday morning at our Children’s Story Time! Our youth services librarian will lead children through a series of stories\, activities\, crafts\, and more in an effort to help build critical early literacy and social skills. No registration is required.
URL:https://sayrepl.org/event/childrens-story-time/2029-07-04/
LOCATION:Sayre Public Library\, 122 S Elmer Ave\, Sayre\, PA\, 18840\, United States
ATTACH;FMTTYPE=image/png:https://sayrepl.org/wp-content/uploads/2024/09/Childrens-Story-Time-Flyer.png
END:VEVENT
BEGIN:VEVENT
DTSTART;TZID=America/New_York:20290705T110000
DTEND;TZID=America/New_York:20290705T120000
DTSTAMP:20260424T154508
CREATED:20251218T154835Z
LAST-MODIFIED:20251218T154835Z
UID:10004974-1877943600-1877947200@sayrepl.org
SUMMARY:Next Chapter Book Club
DESCRIPTION:The Next Chapter Book Club is our book club for adults with developmental disabilities in partnership with the Bradford Wyoming County Literacy Program. Join us each Thursday morning at 11:00 a.m. as we read\, socialize\, and explore the world through books. All are welcome regardless of reading level. \nFor any questions\, feel free to call us at 570-888-2256\, email Stacey at smooney@sayrepl.org\, or stop by the Library. Registration forms for the club can also be found at the Library. We can’t wait to read with you!
URL:https://sayrepl.org/event/next-chapter-book-club-2/2029-07-05/
LOCATION:Sayre Public Library\, 122 S Elmer Ave\, Sayre\, PA\, 18840\, United States
ATTACH;FMTTYPE=image/png:https://sayrepl.org/wp-content/uploads/2025/12/Copy-of-Next-Chapter-Book-Club-Flyers.png
END:VEVENT
BEGIN:VEVENT
DTSTART;TZID=America/New_York:20290706T100000
DTEND;TZID=America/New_York:20290706T230000
DTSTAMP:20260424T154508
CREATED:20240227T164158Z
LAST-MODIFIED:20251229T193456Z
UID:10003026-1878026400-1878073200@sayrepl.org
SUMMARY:Tech Help
DESCRIPTION:Let our staff assist you with tech issues and computer help. Bring in a device\, a tech problem\, or a question and we will assist you! Tech Help runs on a first come\, first served basis.
URL:https://sayrepl.org/event/friday-tech-help-2-2/2029-07-06/
LOCATION:Sayre Public Library\, 122 S Elmer Ave\, Sayre\, PA\, 18840\, United States
CATEGORIES:Events for All Ages
ATTACH;FMTTYPE=image/png:https://sayrepl.org/wp-content/uploads/2023/11/Laptop-Computer-Instagram-Post-5.png
END:VEVENT
BEGIN:VEVENT
DTSTART;TZID=America/New_York:20290709T170000
DTEND;TZID=America/New_York:20290709T180000
DTSTAMP:20260424T154508
CREATED:20240927T152902Z
LAST-MODIFIED:20240927T152902Z
UID:10003855-1878310800-1878314400@sayrepl.org
SUMMARY:The Ink Drinkers Book Club
DESCRIPTION:
URL:https://sayrepl.org/event/the-ink-drinkers-book-club-2/2029-07-09/
LOCATION:Sayre Public Library\, 122 S Elmer Ave\, Sayre\, PA\, 18840\, United States
END:VEVENT
BEGIN:VEVENT
DTSTART;TZID=America/New_York:20290711T103000
DTEND;TZID=America/New_York:20290711T113000
DTSTAMP:20260424T154508
CREATED:20240926T152959Z
LAST-MODIFIED:20240926T154612Z
UID:10003718-1878460200-1878463800@sayrepl.org
SUMMARY:Children's Story Time
DESCRIPTION:  \nJoin us for stories\, songs\, and fun every Wednesday morning at our Children’s Story Time! Our youth services librarian will lead children through a series of stories\, activities\, crafts\, and more in an effort to help build critical early literacy and social skills. No registration is required.
URL:https://sayrepl.org/event/childrens-story-time/2029-07-11/
LOCATION:Sayre Public Library\, 122 S Elmer Ave\, Sayre\, PA\, 18840\, United States
ATTACH;FMTTYPE=image/png:https://sayrepl.org/wp-content/uploads/2024/09/Childrens-Story-Time-Flyer.png
END:VEVENT
BEGIN:VEVENT
DTSTART;TZID=America/New_York:20290712T110000
DTEND;TZID=America/New_York:20290712T120000
DTSTAMP:20260424T154508
CREATED:20251218T154835Z
LAST-MODIFIED:20251218T154835Z
UID:10004975-1878548400-1878552000@sayrepl.org
SUMMARY:Next Chapter Book Club
DESCRIPTION:The Next Chapter Book Club is our book club for adults with developmental disabilities in partnership with the Bradford Wyoming County Literacy Program. Join us each Thursday morning at 11:00 a.m. as we read\, socialize\, and explore the world through books. All are welcome regardless of reading level. \nFor any questions\, feel free to call us at 570-888-2256\, email Stacey at smooney@sayrepl.org\, or stop by the Library. Registration forms for the club can also be found at the Library. We can’t wait to read with you!
URL:https://sayrepl.org/event/next-chapter-book-club-2/2029-07-12/
LOCATION:Sayre Public Library\, 122 S Elmer Ave\, Sayre\, PA\, 18840\, United States
ATTACH;FMTTYPE=image/png:https://sayrepl.org/wp-content/uploads/2025/12/Copy-of-Next-Chapter-Book-Club-Flyers.png
END:VEVENT
BEGIN:VEVENT
DTSTART;TZID=America/New_York:20290713T100000
DTEND;TZID=America/New_York:20290713T230000
DTSTAMP:20260424T154508
CREATED:20240227T164158Z
LAST-MODIFIED:20251229T193456Z
UID:10003027-1878631200-1878678000@sayrepl.org
SUMMARY:Tech Help
DESCRIPTION:Let our staff assist you with tech issues and computer help. Bring in a device\, a tech problem\, or a question and we will assist you! Tech Help runs on a first come\, first served basis.
URL:https://sayrepl.org/event/friday-tech-help-2-2/2029-07-13/
LOCATION:Sayre Public Library\, 122 S Elmer Ave\, Sayre\, PA\, 18840\, United States
CATEGORIES:Events for All Ages
ATTACH;FMTTYPE=image/png:https://sayrepl.org/wp-content/uploads/2023/11/Laptop-Computer-Instagram-Post-5.png
END:VEVENT
BEGIN:VEVENT
DTSTART;TZID=America/New_York:20290718T103000
DTEND;TZID=America/New_York:20290718T113000
DTSTAMP:20260424T154508
CREATED:20240926T152959Z
LAST-MODIFIED:20240926T154612Z
UID:10003719-1879065000-1879068600@sayrepl.org
SUMMARY:Children's Story Time
DESCRIPTION:  \nJoin us for stories\, songs\, and fun every Wednesday morning at our Children’s Story Time! Our youth services librarian will lead children through a series of stories\, activities\, crafts\, and more in an effort to help build critical early literacy and social skills. No registration is required.
URL:https://sayrepl.org/event/childrens-story-time/2029-07-18/
LOCATION:Sayre Public Library\, 122 S Elmer Ave\, Sayre\, PA\, 18840\, United States
ATTACH;FMTTYPE=image/png:https://sayrepl.org/wp-content/uploads/2024/09/Childrens-Story-Time-Flyer.png
END:VEVENT
BEGIN:VEVENT
DTSTART;TZID=America/New_York:20290719T110000
DTEND;TZID=America/New_York:20290719T120000
DTSTAMP:20260424T154508
CREATED:20251218T154835Z
LAST-MODIFIED:20251218T154835Z
UID:10004976-1879153200-1879156800@sayrepl.org
SUMMARY:Next Chapter Book Club
DESCRIPTION:The Next Chapter Book Club is our book club for adults with developmental disabilities in partnership with the Bradford Wyoming County Literacy Program. Join us each Thursday morning at 11:00 a.m. as we read\, socialize\, and explore the world through books. All are welcome regardless of reading level. \nFor any questions\, feel free to call us at 570-888-2256\, email Stacey at smooney@sayrepl.org\, or stop by the Library. Registration forms for the club can also be found at the Library. We can’t wait to read with you!
URL:https://sayrepl.org/event/next-chapter-book-club-2/2029-07-19/
LOCATION:Sayre Public Library\, 122 S Elmer Ave\, Sayre\, PA\, 18840\, United States
ATTACH;FMTTYPE=image/png:https://sayrepl.org/wp-content/uploads/2025/12/Copy-of-Next-Chapter-Book-Club-Flyers.png
END:VEVENT
BEGIN:VEVENT
DTSTART;TZID=America/New_York:20290720T100000
DTEND;TZID=America/New_York:20290720T230000
DTSTAMP:20260424T154508
CREATED:20240227T164158Z
LAST-MODIFIED:20251229T193456Z
UID:10003039-1879236000-1879282800@sayrepl.org
SUMMARY:Tech Help
DESCRIPTION:Let our staff assist you with tech issues and computer help. Bring in a device\, a tech problem\, or a question and we will assist you! Tech Help runs on a first come\, first served basis.
URL:https://sayrepl.org/event/friday-tech-help-2-2/2029-07-20/
LOCATION:Sayre Public Library\, 122 S Elmer Ave\, Sayre\, PA\, 18840\, United States
CATEGORIES:Events for All Ages
ATTACH;FMTTYPE=image/png:https://sayrepl.org/wp-content/uploads/2023/11/Laptop-Computer-Instagram-Post-5.png
END:VEVENT
BEGIN:VEVENT
DTSTART;TZID=America/New_York:20290725T103000
DTEND;TZID=America/New_York:20290725T113000
DTSTAMP:20260424T154508
CREATED:20240926T152959Z
LAST-MODIFIED:20240926T154612Z
UID:10003720-1879669800-1879673400@sayrepl.org
SUMMARY:Children's Story Time
DESCRIPTION:  \nJoin us for stories\, songs\, and fun every Wednesday morning at our Children’s Story Time! Our youth services librarian will lead children through a series of stories\, activities\, crafts\, and more in an effort to help build critical early literacy and social skills. No registration is required.
URL:https://sayrepl.org/event/childrens-story-time/2029-07-25/
LOCATION:Sayre Public Library\, 122 S Elmer Ave\, Sayre\, PA\, 18840\, United States
ATTACH;FMTTYPE=image/png:https://sayrepl.org/wp-content/uploads/2024/09/Childrens-Story-Time-Flyer.png
END:VEVENT
BEGIN:VEVENT
DTSTART;TZID=America/New_York:20290726T110000
DTEND;TZID=America/New_York:20290726T120000
DTSTAMP:20260424T154508
CREATED:20251218T154835Z
LAST-MODIFIED:20251218T154835Z
UID:10004977-1879758000-1879761600@sayrepl.org
SUMMARY:Next Chapter Book Club
DESCRIPTION:The Next Chapter Book Club is our book club for adults with developmental disabilities in partnership with the Bradford Wyoming County Literacy Program. Join us each Thursday morning at 11:00 a.m. as we read\, socialize\, and explore the world through books. All are welcome regardless of reading level. \nFor any questions\, feel free to call us at 570-888-2256\, email Stacey at smooney@sayrepl.org\, or stop by the Library. Registration forms for the club can also be found at the Library. We can’t wait to read with you!
URL:https://sayrepl.org/event/next-chapter-book-club-2/2029-07-26/
LOCATION:Sayre Public Library\, 122 S Elmer Ave\, Sayre\, PA\, 18840\, United States
ATTACH;FMTTYPE=image/png:https://sayrepl.org/wp-content/uploads/2025/12/Copy-of-Next-Chapter-Book-Club-Flyers.png
END:VEVENT
BEGIN:VEVENT
DTSTART;TZID=America/New_York:20290727T100000
DTEND;TZID=America/New_York:20290727T230000
DTSTAMP:20260424T154508
CREATED:20240227T164158Z
LAST-MODIFIED:20251229T193456Z
UID:10003414-1879840800-1879887600@sayrepl.org
SUMMARY:Tech Help
DESCRIPTION:Let our staff assist you with tech issues and computer help. Bring in a device\, a tech problem\, or a question and we will assist you! Tech Help runs on a first come\, first served basis.
URL:https://sayrepl.org/event/friday-tech-help-2-2/2029-07-27/
LOCATION:Sayre Public Library\, 122 S Elmer Ave\, Sayre\, PA\, 18840\, United States
CATEGORIES:Events for All Ages
ATTACH;FMTTYPE=image/png:https://sayrepl.org/wp-content/uploads/2023/11/Laptop-Computer-Instagram-Post-5.png
END:VEVENT
BEGIN:VEVENT
DTSTART;TZID=America/New_York:20290801T100000
DTEND;TZID=America/New_York:20290801T110000
DTSTAMP:20260424T154508
CREATED:20240926T163812Z
LAST-MODIFIED:20240926T163812Z
UID:10003791-1880272800-1880276400@sayrepl.org
SUMMARY:Advanced Tech Time with Tim Clines
DESCRIPTION:Bring your laptop or device and Tim Clines will be available to answer questions you may have about apps\, accounts\, operating systems\, or any other tech related situation that has you stumped! Tim joins us every first Wednesday of the month at 10:00 a.m. to help support additional tech needs you may have.
URL:https://sayrepl.org/event/advanced-tech-time-with-tim-clines-3/2029-08-01/
LOCATION:Sayre Public Library\, 122 S Elmer Ave\, Sayre\, PA\, 18840\, United States
ATTACH;FMTTYPE=image/png:https://sayrepl.org/wp-content/uploads/2024/01/Soft-Sage-Computer-Tips-Cover-Pinterest-Pin.png
END:VEVENT
BEGIN:VEVENT
DTSTART;TZID=America/New_York:20290801T103000
DTEND;TZID=America/New_York:20290801T113000
DTSTAMP:20260424T154508
CREATED:20240926T152959Z
LAST-MODIFIED:20240926T154612Z
UID:10003721-1880274600-1880278200@sayrepl.org
SUMMARY:Children's Story Time
DESCRIPTION:  \nJoin us for stories\, songs\, and fun every Wednesday morning at our Children’s Story Time! Our youth services librarian will lead children through a series of stories\, activities\, crafts\, and more in an effort to help build critical early literacy and social skills. No registration is required.
URL:https://sayrepl.org/event/childrens-story-time/2029-08-01/
LOCATION:Sayre Public Library\, 122 S Elmer Ave\, Sayre\, PA\, 18840\, United States
ATTACH;FMTTYPE=image/png:https://sayrepl.org/wp-content/uploads/2024/09/Childrens-Story-Time-Flyer.png
END:VEVENT
BEGIN:VEVENT
DTSTART;TZID=America/New_York:20290802T110000
DTEND;TZID=America/New_York:20290802T120000
DTSTAMP:20260424T154508
CREATED:20251218T154835Z
LAST-MODIFIED:20251218T154835Z
UID:10004978-1880362800-1880366400@sayrepl.org
SUMMARY:Next Chapter Book Club
DESCRIPTION:The Next Chapter Book Club is our book club for adults with developmental disabilities in partnership with the Bradford Wyoming County Literacy Program. Join us each Thursday morning at 11:00 a.m. as we read\, socialize\, and explore the world through books. All are welcome regardless of reading level. \nFor any questions\, feel free to call us at 570-888-2256\, email Stacey at smooney@sayrepl.org\, or stop by the Library. Registration forms for the club can also be found at the Library. We can’t wait to read with you!
URL:https://sayrepl.org/event/next-chapter-book-club-2/2029-08-02/
LOCATION:Sayre Public Library\, 122 S Elmer Ave\, Sayre\, PA\, 18840\, United States
ATTACH;FMTTYPE=image/png:https://sayrepl.org/wp-content/uploads/2025/12/Copy-of-Next-Chapter-Book-Club-Flyers.png
END:VEVENT
BEGIN:VEVENT
DTSTART;TZID=America/New_York:20290803T100000
DTEND;TZID=America/New_York:20290803T230000
DTSTAMP:20260424T154508
CREATED:20240227T164158Z
LAST-MODIFIED:20251229T193456Z
UID:10003415-1880445600-1880492400@sayrepl.org
SUMMARY:Tech Help
DESCRIPTION:Let our staff assist you with tech issues and computer help. Bring in a device\, a tech problem\, or a question and we will assist you! Tech Help runs on a first come\, first served basis.
URL:https://sayrepl.org/event/friday-tech-help-2-2/2029-08-03/
LOCATION:Sayre Public Library\, 122 S Elmer Ave\, Sayre\, PA\, 18840\, United States
CATEGORIES:Events for All Ages
ATTACH;FMTTYPE=image/png:https://sayrepl.org/wp-content/uploads/2023/11/Laptop-Computer-Instagram-Post-5.png
END:VEVENT
BEGIN:VEVENT
DTSTART;TZID=America/New_York:20290808T103000
DTEND;TZID=America/New_York:20290808T113000
DTSTAMP:20260424T154508
CREATED:20240926T152959Z
LAST-MODIFIED:20240926T154612Z
UID:10003722-1880879400-1880883000@sayrepl.org
SUMMARY:Children's Story Time
DESCRIPTION:  \nJoin us for stories\, songs\, and fun every Wednesday morning at our Children’s Story Time! Our youth services librarian will lead children through a series of stories\, activities\, crafts\, and more in an effort to help build critical early literacy and social skills. No registration is required.
URL:https://sayrepl.org/event/childrens-story-time/2029-08-08/
LOCATION:Sayre Public Library\, 122 S Elmer Ave\, Sayre\, PA\, 18840\, United States
ATTACH;FMTTYPE=image/png:https://sayrepl.org/wp-content/uploads/2024/09/Childrens-Story-Time-Flyer.png
END:VEVENT
BEGIN:VEVENT
DTSTART;TZID=America/New_York:20290809T110000
DTEND;TZID=America/New_York:20290809T120000
DTSTAMP:20260424T154508
CREATED:20251218T154835Z
LAST-MODIFIED:20251218T154835Z
UID:10004979-1880967600-1880971200@sayrepl.org
SUMMARY:Next Chapter Book Club
DESCRIPTION:The Next Chapter Book Club is our book club for adults with developmental disabilities in partnership with the Bradford Wyoming County Literacy Program. Join us each Thursday morning at 11:00 a.m. as we read\, socialize\, and explore the world through books. All are welcome regardless of reading level. \nFor any questions\, feel free to call us at 570-888-2256\, email Stacey at smooney@sayrepl.org\, or stop by the Library. Registration forms for the club can also be found at the Library. We can’t wait to read with you!
URL:https://sayrepl.org/event/next-chapter-book-club-2/2029-08-09/
LOCATION:Sayre Public Library\, 122 S Elmer Ave\, Sayre\, PA\, 18840\, United States
ATTACH;FMTTYPE=image/png:https://sayrepl.org/wp-content/uploads/2025/12/Copy-of-Next-Chapter-Book-Club-Flyers.png
END:VEVENT
BEGIN:VEVENT
DTSTART;TZID=America/New_York:20290810T100000
DTEND;TZID=America/New_York:20290810T230000
DTSTAMP:20260424T154508
CREATED:20240227T164158Z
LAST-MODIFIED:20251229T193456Z
UID:10003428-1881050400-1881097200@sayrepl.org
SUMMARY:Tech Help
DESCRIPTION:Let our staff assist you with tech issues and computer help. Bring in a device\, a tech problem\, or a question and we will assist you! Tech Help runs on a first come\, first served basis.
URL:https://sayrepl.org/event/friday-tech-help-2-2/2029-08-10/
LOCATION:Sayre Public Library\, 122 S Elmer Ave\, Sayre\, PA\, 18840\, United States
CATEGORIES:Events for All Ages
ATTACH;FMTTYPE=image/png:https://sayrepl.org/wp-content/uploads/2023/11/Laptop-Computer-Instagram-Post-5.png
END:VEVENT
BEGIN:VEVENT
DTSTART;TZID=America/New_York:20290813T170000
DTEND;TZID=America/New_York:20290813T180000
DTSTAMP:20260424T154508
CREATED:20240927T152902Z
LAST-MODIFIED:20240927T152902Z
UID:10003856-1881334800-1881338400@sayrepl.org
SUMMARY:The Ink Drinkers Book Club
DESCRIPTION:
URL:https://sayrepl.org/event/the-ink-drinkers-book-club-2/2029-08-13/
LOCATION:Sayre Public Library\, 122 S Elmer Ave\, Sayre\, PA\, 18840\, United States
END:VEVENT
BEGIN:VEVENT
DTSTART;TZID=America/New_York:20290815T103000
DTEND;TZID=America/New_York:20290815T113000
DTSTAMP:20260424T154508
CREATED:20240926T152959Z
LAST-MODIFIED:20240926T154612Z
UID:10003723-1881484200-1881487800@sayrepl.org
SUMMARY:Children's Story Time
DESCRIPTION:  \nJoin us for stories\, songs\, and fun every Wednesday morning at our Children’s Story Time! Our youth services librarian will lead children through a series of stories\, activities\, crafts\, and more in an effort to help build critical early literacy and social skills. No registration is required.
URL:https://sayrepl.org/event/childrens-story-time/2029-08-15/
LOCATION:Sayre Public Library\, 122 S Elmer Ave\, Sayre\, PA\, 18840\, United States
ATTACH;FMTTYPE=image/png:https://sayrepl.org/wp-content/uploads/2024/09/Childrens-Story-Time-Flyer.png
END:VEVENT
BEGIN:VEVENT
DTSTART;TZID=America/New_York:20290816T110000
DTEND;TZID=America/New_York:20290816T120000
DTSTAMP:20260424T154508
CREATED:20251218T154835Z
LAST-MODIFIED:20251218T154835Z
UID:10004980-1881572400-1881576000@sayrepl.org
SUMMARY:Next Chapter Book Club
DESCRIPTION:The Next Chapter Book Club is our book club for adults with developmental disabilities in partnership with the Bradford Wyoming County Literacy Program. Join us each Thursday morning at 11:00 a.m. as we read\, socialize\, and explore the world through books. All are welcome regardless of reading level. \nFor any questions\, feel free to call us at 570-888-2256\, email Stacey at smooney@sayrepl.org\, or stop by the Library. Registration forms for the club can also be found at the Library. We can’t wait to read with you!
URL:https://sayrepl.org/event/next-chapter-book-club-2/2029-08-16/
LOCATION:Sayre Public Library\, 122 S Elmer Ave\, Sayre\, PA\, 18840\, United States
ATTACH;FMTTYPE=image/png:https://sayrepl.org/wp-content/uploads/2025/12/Copy-of-Next-Chapter-Book-Club-Flyers.png
END:VEVENT
END:VCALENDAR