BEGIN:VCALENDAR
VERSION:2.0
PRODID:-//Sayre Public Library - ECPv6.15.16//NONSGML v1.0//EN
CALSCALE:GREGORIAN
METHOD:PUBLISH
X-ORIGINAL-URL:https://sayrepl.org
X-WR-CALDESC:Events for Sayre Public Library
REFRESH-INTERVAL;VALUE=DURATION:PT1H
X-Robots-Tag:noindex
X-PUBLISHED-TTL:PT1H
BEGIN:VTIMEZONE
TZID:America/New_York
BEGIN:DAYLIGHT
TZOFFSETFROM:-0500
TZOFFSETTO:-0400
TZNAME:EDT
DTSTART:20250309T070000
END:DAYLIGHT
BEGIN:STANDARD
TZOFFSETFROM:-0400
TZOFFSETTO:-0500
TZNAME:EST
DTSTART:20251102T060000
END:STANDARD
BEGIN:DAYLIGHT
TZOFFSETFROM:-0500
TZOFFSETTO:-0400
TZNAME:EDT
DTSTART:20260308T070000
END:DAYLIGHT
BEGIN:STANDARD
TZOFFSETFROM:-0400
TZOFFSETTO:-0500
TZNAME:EST
DTSTART:20261101T060000
END:STANDARD
BEGIN:DAYLIGHT
TZOFFSETFROM:-0500
TZOFFSETTO:-0400
TZNAME:EDT
DTSTART:20270314T070000
END:DAYLIGHT
BEGIN:STANDARD
TZOFFSETFROM:-0400
TZOFFSETTO:-0500
TZNAME:EST
DTSTART:20271107T060000
END:STANDARD
END:VTIMEZONE
BEGIN:VEVENT
DTSTART;TZID=America/New_York:20260408T103000
DTEND;TZID=America/New_York:20260408T113000
DTSTAMP:20260421T205604
CREATED:20260320T143830Z
LAST-MODIFIED:20260320T143831Z
UID:10003548-1775644200-1775647800@sayrepl.org
SUMMARY:Children's Story Time: Frogs
DESCRIPTION:Join us for stories\, songs\, and fun every Wednesday morning at our Children’s Story Time! Our youth services librarian will lead children through a series of stories\, activities\, crafts\, and more in an effort to help build critical early literacy and social skills. No registration is required. \nThis week\, our theme for Story Time is Frogs!
URL:https://sayrepl.org/event/childrens-story-time-7/
LOCATION:Sayre Public Library\, 122 S Elmer Ave\, Sayre\, PA\, 18840\, United States
ATTACH;FMTTYPE=image/png:https://sayrepl.org/wp-content/uploads/2024/09/Childrens-Story-Time-Flyer.png
END:VEVENT
BEGIN:VEVENT
DTSTART;TZID=America/New_York:20260409T110000
DTEND;TZID=America/New_York:20260409T120000
DTSTAMP:20260421T205604
CREATED:20251218T154835Z
LAST-MODIFIED:20251218T154835Z
UID:10004805-1775732400-1775736000@sayrepl.org
SUMMARY:Next Chapter Book Club
DESCRIPTION:The Next Chapter Book Club is our book club for adults with developmental disabilities in partnership with the Bradford Wyoming County Literacy Program. Join us each Thursday morning at 11:00 a.m. as we read\, socialize\, and explore the world through books. All are welcome regardless of reading level. \nFor any questions\, feel free to call us at 570-888-2256\, email Stacey at smooney@sayrepl.org\, or stop by the Library. Registration forms for the club can also be found at the Library. We can’t wait to read with you!
URL:https://sayrepl.org/event/next-chapter-book-club-2/2026-04-09/
LOCATION:Sayre Public Library\, 122 S Elmer Ave\, Sayre\, PA\, 18840\, United States
ATTACH;FMTTYPE=image/png:https://sayrepl.org/wp-content/uploads/2025/12/Copy-of-Next-Chapter-Book-Club-Flyers.png
END:VEVENT
BEGIN:VEVENT
DTSTART;TZID=America/New_York:20260410T100000
DTEND;TZID=America/New_York:20260410T230000
DTSTAMP:20260421T205604
CREATED:20240227T164158Z
LAST-MODIFIED:20251229T193456Z
UID:10001671-1775815200-1775862000@sayrepl.org
SUMMARY:Tech Help
DESCRIPTION:Let our staff assist you with tech issues and computer help. Bring in a device\, a tech problem\, or a question and we will assist you! Tech Help runs on a first come\, first served basis.
URL:https://sayrepl.org/event/friday-tech-help-2-2/2026-04-10/
LOCATION:Sayre Public Library\, 122 S Elmer Ave\, Sayre\, PA\, 18840\, United States
CATEGORIES:Events for All Ages
ATTACH;FMTTYPE=image/png:https://sayrepl.org/wp-content/uploads/2023/11/Laptop-Computer-Instagram-Post-5.png
END:VEVENT
BEGIN:VEVENT
DTSTART;TZID=America/New_York:20260411T103000
DTEND;TZID=America/New_York:20260411T113000
DTSTAMP:20260421T205604
CREATED:20260226T154117Z
LAST-MODIFIED:20260226T154117Z
UID:10005105-1775903400-1775907000@sayrepl.org
SUMMARY:Learn the Uke w/ Brian
DESCRIPTION:Come and explore your musical side with us! Join us every other Saturday from March 14 to April 25 to learn the basics of playing the ukulele with local musician Brian Has a Uke! \nClasses will be held from 10:30 a.m. to 11:30 a.m. These classes are open to participants ages 12 and older. The Library has 7 ukuleles available for use\, although participants are welcome to bring their own. \nTo register\, call us at 570-888-2256\, email us at sayre.library@gmail.com\, or stop by the circulation desk at the Library.
URL:https://sayrepl.org/event/learn-the-uke-w-brian/2026-04-11/
LOCATION:Sayre Public Library\, 122 S Elmer Ave\, Sayre\, PA\, 18840\, United States
ATTACH;FMTTYPE=image/png:https://sayrepl.org/wp-content/uploads/2026/02/Learn-1.png
END:VEVENT
END:VCALENDAR