BEGIN:VCALENDAR
VERSION:2.0
PRODID:-//Sayre Public Library - ECPv6.15.16//NONSGML v1.0//EN
CALSCALE:GREGORIAN
METHOD:PUBLISH
X-WR-CALNAME:Sayre Public Library
X-ORIGINAL-URL:https://sayrepl.org
X-WR-CALDESC:Events for Sayre Public Library
REFRESH-INTERVAL;VALUE=DURATION:PT1H
X-Robots-Tag:noindex
X-PUBLISHED-TTL:PT1H
BEGIN:VTIMEZONE
TZID:America/New_York
BEGIN:DAYLIGHT
TZOFFSETFROM:-0500
TZOFFSETTO:-0400
TZNAME:EDT
DTSTART:20250309T070000
END:DAYLIGHT
BEGIN:STANDARD
TZOFFSETFROM:-0400
TZOFFSETTO:-0500
TZNAME:EST
DTSTART:20251102T060000
END:STANDARD
BEGIN:DAYLIGHT
TZOFFSETFROM:-0500
TZOFFSETTO:-0400
TZNAME:EDT
DTSTART:20260308T070000
END:DAYLIGHT
BEGIN:STANDARD
TZOFFSETFROM:-0400
TZOFFSETTO:-0500
TZNAME:EST
DTSTART:20261101T060000
END:STANDARD
BEGIN:DAYLIGHT
TZOFFSETFROM:-0500
TZOFFSETTO:-0400
TZNAME:EDT
DTSTART:20270314T070000
END:DAYLIGHT
BEGIN:STANDARD
TZOFFSETFROM:-0400
TZOFFSETTO:-0500
TZNAME:EST
DTSTART:20271107T060000
END:STANDARD
END:VTIMEZONE
BEGIN:VEVENT
DTSTART;TZID=America/New_York:20260412T150000
DTEND;TZID=America/New_York:20260412T163000
DTSTAMP:20260421T204948
CREATED:20260317T151650Z
LAST-MODIFIED:20260320T143302Z
UID:10005124-1776006000-1776011400@sayrepl.org
SUMMARY:Teen Reading Lounge
DESCRIPTION:Area youth ages 12-18 are invited to join in to speak up and make an impact on their lives and their community through reading\, discussion\, and participation in the humanities. We are now a Youth Led Humanities site\, which means youth are supported as they take the lead in deciding on programming and activities for the group.
URL:https://sayrepl.org/event/teen-reading-lounge-2/
LOCATION:Sayre Public Library\, 122 S Elmer Ave\, Sayre\, PA\, 18840\, United States
END:VEVENT
BEGIN:VEVENT
DTSTART;TZID=America/New_York:20260413T170000
DTEND;TZID=America/New_York:20260413T180000
DTSTAMP:20260421T204948
CREATED:20260317T155431Z
LAST-MODIFIED:20260317T160111Z
UID:10003816-1776099600-1776103200@sayrepl.org
SUMMARY:The Ink Drinkers Book Club: The River Is Waiting
DESCRIPTION:Our monthly book club will be reading The River Is Waiting by Wally Lamb. Ask for a copy at the circulation desk. No registration required. 
URL:https://sayrepl.org/event/the-ink-drinkers-book-club-2-4/
LOCATION:Sayre Public Library\, 122 S Elmer Ave\, Sayre\, PA\, 18840\, United States
ATTACH;FMTTYPE=image/jpeg:https://sayrepl.org/wp-content/uploads/2024/09/images.jpg
END:VEVENT
BEGIN:VEVENT
DTSTART;TZID=America/New_York:20260414T173000
DTEND;TZID=America/New_York:20260414T183000
DTSTAMP:20260421T204948
CREATED:20260320T151151Z
LAST-MODIFIED:20260326T191411Z
UID:10005133-1776187800-1776191400@sayrepl.org
SUMMARY:Medicare Supplements and Medicare Advantage w/ Alex Richey from Freedom Financial
DESCRIPTION:65 isn’t just any birthday. It’s the year you become eligible for Medicare. 12\,000 Americans turn 65 every day \, and if you’re one of them\, you should be informed about what Medicare is\, how it works\, and what you need to do to make sure you have the kind of coverage you need.\n\nAt “Getting Started with Medicare”\, you’ll learn:\n• The history of Medicare\n• Medicare health plans including Original Medicare\, Medicare Supplement\, Medicare Advantage and Part D Prescription Drug Plans.\n• When the Medicare enrollment period begins and ends for you\, and what you should do\n• What you can do if you’re working past age 65\n• How to avoid making mistakes with Medicare
URL:https://sayrepl.org/event/medicare-supplements-and-medicare-advantage-w-alex-richey/
LOCATION:Sayre Public Library\, 122 S Elmer Ave\, Sayre\, PA\, 18840\, United States
ATTACH;FMTTYPE=image/png:https://sayrepl.org/wp-content/uploads/2026/03/Freedom-Financial-Medicare-Supplements-1.png
END:VEVENT
BEGIN:VEVENT
DTSTART;TZID=America/New_York:20260414T190000
DTEND;TZID=America/New_York:20260414T200000
DTSTAMP:20260421T204948
CREATED:20260317T150929Z
LAST-MODIFIED:20260317T150929Z
UID:10005121-1776193200-1776196800@sayrepl.org
SUMMARY:LSC Virtual Author Talk: Brad Taylor
DESCRIPTION:Registration: \nLSC | Register | Sayre Public Library (libraryc.org) \nDescription: \nJoin us in conversation with acclaimed author Brad Taylor on his latest work\, Shadow Strike\, book 20 (yes\, you read that right!) of the bestselling Pike Logan series. \nAfter its proxies are devastated and its offensive capability pummeled in the latest war in the Middle East\, a rogue group of Iranian regime officials create a brazen plot to strike back at their hated enemies once and for all. They envision a series of operational dominos culminating in a devastating attack\, and the first step is the assassination of the Israeli prime minister.  And there’s only one assassin with the skills to pull it off: Abdul Rahman\, known in the shadows as the Ghost. \nWhen a routine prison transfer is ambushed\, the Ghost escapes and is given the assignment. The only Operator who can hunt him down is the man who stopped him before: Pike Logan. \nPike and his team soon learn that the mission involves something bigger than just the escape of his old enemy. Working with Mossad agents\, the pursuit leads the Taskforce to Argentina. They work to unravel the scope of the attack\, and the chase leads them through the tempestuous waterfalls of Iguazu and the Triple Frontier\, to the vibrant streets of Buenos Aires\, and the tiny village of Ushuaia at the “End of the World.” \nAs the team races against the clock\, Pike learns the stakes are much greater than a single life – the consequences extend into the heartland of America itself. The Ghost may hold the key to an escalation that will upend the worldwide balance of power\, and if Pike fails\, the fallout won’t just be personal – it’ll be global. \nRegister today to learn why the Pike Logan series has everyone buzzing! \nAbout the Author: Brad Taylor is the author of the New York Times bestselling Pike Logan series. He served for more than twenty years in the U.S. Army\, including eight years in 1st Special Forces Operational Detachment-Delta\, commonly known as Delta Force. He retired as a Special Forces lieutenant colonel and now lives in Charleston\, South Carolina.
URL:https://sayrepl.org/event/lsc-virtual-author-talk-brad-taylor/
LOCATION:Sayre Public Library\, 122 S Elmer Ave\, Sayre\, PA\, 18840\, United States
ATTACH;FMTTYPE=image/jpeg:https://sayrepl.org/wp-content/uploads/2026/03/maxresdefault-27.jpg
END:VEVENT
BEGIN:VEVENT
DTSTART;TZID=America/New_York:20260415T103000
DTEND;TZID=America/New_York:20260415T113000
DTSTAMP:20260421T204948
CREATED:20260320T143918Z
LAST-MODIFIED:20260320T143918Z
UID:10003549-1776249000-1776252600@sayrepl.org
SUMMARY:Children's Story Time: Building
DESCRIPTION:Join us for stories\, songs\, and fun every Wednesday morning at our Children’s Story Time! Our youth services librarian will lead children through a series of stories\, activities\, crafts\, and more in an effort to help build critical early literacy and social skills. No registration is required. \nThis week\, our theme for Story Time is Building!
URL:https://sayrepl.org/event/childrens-story-time-8/
LOCATION:Sayre Public Library\, 122 S Elmer Ave\, Sayre\, PA\, 18840\, United States
ATTACH;FMTTYPE=image/png:https://sayrepl.org/wp-content/uploads/2024/09/Childrens-Story-Time-Flyer.png
END:VEVENT
BEGIN:VEVENT
DTSTART;TZID=America/New_York:20260416T110000
DTEND;TZID=America/New_York:20260416T120000
DTSTAMP:20260421T204948
CREATED:20251218T154835Z
LAST-MODIFIED:20251218T154835Z
UID:10004806-1776337200-1776340800@sayrepl.org
SUMMARY:Next Chapter Book Club
DESCRIPTION:The Next Chapter Book Club is our book club for adults with developmental disabilities in partnership with the Bradford Wyoming County Literacy Program. Join us each Thursday morning at 11:00 a.m. as we read\, socialize\, and explore the world through books. All are welcome regardless of reading level. \nFor any questions\, feel free to call us at 570-888-2256\, email Stacey at smooney@sayrepl.org\, or stop by the Library. Registration forms for the club can also be found at the Library. We can’t wait to read with you!
URL:https://sayrepl.org/event/next-chapter-book-club-2/2026-04-16/
LOCATION:Sayre Public Library\, 122 S Elmer Ave\, Sayre\, PA\, 18840\, United States
ATTACH;FMTTYPE=image/png:https://sayrepl.org/wp-content/uploads/2025/12/Copy-of-Next-Chapter-Book-Club-Flyers.png
END:VEVENT
BEGIN:VEVENT
DTSTART;TZID=America/New_York:20260417T100000
DTEND;TZID=America/New_York:20260417T230000
DTSTAMP:20260421T204948
CREATED:20240227T164158Z
LAST-MODIFIED:20251229T193456Z
UID:10001672-1776420000-1776466800@sayrepl.org
SUMMARY:Tech Help
DESCRIPTION:Let our staff assist you with tech issues and computer help. Bring in a device\, a tech problem\, or a question and we will assist you! Tech Help runs on a first come\, first served basis.
URL:https://sayrepl.org/event/friday-tech-help-2-2/2026-04-17/
LOCATION:Sayre Public Library\, 122 S Elmer Ave\, Sayre\, PA\, 18840\, United States
CATEGORIES:Events for All Ages
ATTACH;FMTTYPE=image/png:https://sayrepl.org/wp-content/uploads/2023/11/Laptop-Computer-Instagram-Post-5.png
END:VEVENT
BEGIN:VEVENT
DTSTART;TZID=America/New_York:20260418T110000
DTEND;TZID=America/New_York:20260418T120000
DTSTAMP:20260421T204948
CREATED:20260320T151027Z
LAST-MODIFIED:20260326T170518Z
UID:10005132-1776510000-1776513600@sayrepl.org
SUMMARY:Deb Twigg Presents Carantouan
DESCRIPTION:Join us on Saturday\, April 18\, at 11:00 a.m. as local historian Deb Twigg presents on the history of the Native American Nation of Carantouan\, in collaboration with the Sayre Historical Society and America250PA Bradford County.
URL:https://sayrepl.org/event/deb-twigg-presents-carantouan/
LOCATION:Sayre Public Library\, 122 S Elmer Ave\, Sayre\, PA\, 18840\, United States
ATTACH;FMTTYPE=image/png:https://sayrepl.org/wp-content/uploads/2026/03/Deb-Twigg-Carantouan.png
END:VEVENT
END:VCALENDAR