BEGIN:VCALENDAR
VERSION:2.0
PRODID:-//Sayre Public Library - ECPv6.15.16//NONSGML v1.0//EN
CALSCALE:GREGORIAN
METHOD:PUBLISH
X-ORIGINAL-URL:https://sayrepl.org
X-WR-CALDESC:Events for Sayre Public Library
REFRESH-INTERVAL;VALUE=DURATION:PT1H
X-Robots-Tag:noindex
X-PUBLISHED-TTL:PT1H
BEGIN:VTIMEZONE
TZID:America/New_York
BEGIN:DAYLIGHT
TZOFFSETFROM:-0500
TZOFFSETTO:-0400
TZNAME:EDT
DTSTART:20260308T070000
END:DAYLIGHT
BEGIN:STANDARD
TZOFFSETFROM:-0400
TZOFFSETTO:-0500
TZNAME:EST
DTSTART:20261101T060000
END:STANDARD
BEGIN:DAYLIGHT
TZOFFSETFROM:-0500
TZOFFSETTO:-0400
TZNAME:EDT
DTSTART:20270314T070000
END:DAYLIGHT
BEGIN:STANDARD
TZOFFSETFROM:-0400
TZOFFSETTO:-0500
TZNAME:EST
DTSTART:20271107T060000
END:STANDARD
BEGIN:DAYLIGHT
TZOFFSETFROM:-0500
TZOFFSETTO:-0400
TZNAME:EDT
DTSTART:20280312T070000
END:DAYLIGHT
BEGIN:STANDARD
TZOFFSETFROM:-0400
TZOFFSETTO:-0500
TZNAME:EST
DTSTART:20281105T060000
END:STANDARD
END:VTIMEZONE
BEGIN:VEVENT
DTSTART;TZID=America/New_York:20270127T103000
DTEND;TZID=America/New_York:20270127T113000
DTSTAMP:20260425T065107
CREATED:20240926T152959Z
LAST-MODIFIED:20240926T154612Z
UID:10003590-1801045800-1801049400@sayrepl.org
SUMMARY:Children's Story Time
DESCRIPTION:  \nJoin us for stories\, songs\, and fun every Wednesday morning at our Children’s Story Time! Our youth services librarian will lead children through a series of stories\, activities\, crafts\, and more in an effort to help build critical early literacy and social skills. No registration is required.
URL:https://sayrepl.org/event/childrens-story-time/2027-01-27/
LOCATION:Sayre Public Library\, 122 S Elmer Ave\, Sayre\, PA\, 18840\, United States
ATTACH;FMTTYPE=image/png:https://sayrepl.org/wp-content/uploads/2024/09/Childrens-Story-Time-Flyer.png
END:VEVENT
BEGIN:VEVENT
DTSTART;TZID=America/New_York:20270128T110000
DTEND;TZID=America/New_York:20270128T120000
DTSTAMP:20260425T065107
CREATED:20251218T154835Z
LAST-MODIFIED:20251218T154835Z
UID:10004847-1801134000-1801137600@sayrepl.org
SUMMARY:Next Chapter Book Club
DESCRIPTION:The Next Chapter Book Club is our book club for adults with developmental disabilities in partnership with the Bradford Wyoming County Literacy Program. Join us each Thursday morning at 11:00 a.m. as we read\, socialize\, and explore the world through books. All are welcome regardless of reading level. \nFor any questions\, feel free to call us at 570-888-2256\, email Stacey at smooney@sayrepl.org\, or stop by the Library. Registration forms for the club can also be found at the Library. We can’t wait to read with you!
URL:https://sayrepl.org/event/next-chapter-book-club-2/2027-01-28/
LOCATION:Sayre Public Library\, 122 S Elmer Ave\, Sayre\, PA\, 18840\, United States
ATTACH;FMTTYPE=image/png:https://sayrepl.org/wp-content/uploads/2025/12/Copy-of-Next-Chapter-Book-Club-Flyers.png
END:VEVENT
BEGIN:VEVENT
DTSTART;TZID=America/New_York:20270129T100000
DTEND;TZID=America/New_York:20270129T230000
DTSTAMP:20260425T065107
CREATED:20240227T164158Z
LAST-MODIFIED:20251229T193456Z
UID:10001713-1801216800-1801263600@sayrepl.org
SUMMARY:Tech Help
DESCRIPTION:Let our staff assist you with tech issues and computer help. Bring in a device\, a tech problem\, or a question and we will assist you! Tech Help runs on a first come\, first served basis.
URL:https://sayrepl.org/event/friday-tech-help-2-2/2027-01-29/
LOCATION:Sayre Public Library\, 122 S Elmer Ave\, Sayre\, PA\, 18840\, United States
CATEGORIES:Events for All Ages
ATTACH;FMTTYPE=image/png:https://sayrepl.org/wp-content/uploads/2023/11/Laptop-Computer-Instagram-Post-5.png
END:VEVENT
END:VCALENDAR